BEGIN:VCALENDAR
VERSION:2.0
PRODID:-//Cotswold Electric Bike Tours - ECPv6.15.20//NONSGML v1.0//EN
CALSCALE:GREGORIAN
METHOD:PUBLISH
X-ORIGINAL-URL:https://www.cotswoldelectricbiketours.co.uk
X-WR-CALDESC:Events for Cotswold Electric Bike Tours
REFRESH-INTERVAL;VALUE=DURATION:PT1H
X-Robots-Tag:noindex
X-PUBLISHED-TTL:PT1H
BEGIN:VTIMEZONE
TZID:Europe/London
BEGIN:DAYLIGHT
TZOFFSETFROM:+0000
TZOFFSETTO:+0100
TZNAME:BST
DTSTART:20250330T010000
END:DAYLIGHT
BEGIN:STANDARD
TZOFFSETFROM:+0100
TZOFFSETTO:+0000
TZNAME:GMT
DTSTART:20251026T010000
END:STANDARD
BEGIN:DAYLIGHT
TZOFFSETFROM:+0000
TZOFFSETTO:+0100
TZNAME:BST
DTSTART:20260329T010000
END:DAYLIGHT
BEGIN:STANDARD
TZOFFSETFROM:+0100
TZOFFSETTO:+0000
TZNAME:GMT
DTSTART:20261025T010000
END:STANDARD
BEGIN:DAYLIGHT
TZOFFSETFROM:+0000
TZOFFSETTO:+0100
TZNAME:BST
DTSTART:20270328T010000
END:DAYLIGHT
BEGIN:STANDARD
TZOFFSETFROM:+0100
TZOFFSETTO:+0000
TZNAME:GMT
DTSTART:20271031T010000
END:STANDARD
END:VTIMEZONE
BEGIN:VEVENT
DTSTART;TZID=Europe/London:20260723T100000
DTEND;TZID=Europe/London:20260723T160000
DTSTAMP:20260425T001132
CREATED:20251109T144231Z
LAST-MODIFIED:20251109T144231Z
UID:22876-1784800800-1784822400@www.cotswoldelectricbiketours.co.uk
SUMMARY:Moreton-in-Marsh
DESCRIPTION:
URL:https://www.cotswoldelectricbiketours.co.uk/date/moreton-in-marsh-200/
CATEGORIES:Moreton-in-Marsh
END:VEVENT
BEGIN:VEVENT
DTSTART;TZID=Europe/London:20260724T100000
DTEND;TZID=Europe/London:20260724T170000
DTSTAMP:20260425T001132
CREATED:20251109T144523Z
LAST-MODIFIED:20251109T144523Z
UID:22879-1784887200-1784912400@www.cotswoldelectricbiketours.co.uk
SUMMARY:Donnington Brewery Experience
DESCRIPTION:
URL:https://www.cotswoldelectricbiketours.co.uk/date/donnington-brewery-experience-17/
CATEGORIES:Donnington Brewery Experience
END:VEVENT
BEGIN:VEVENT
DTSTART;TZID=Europe/London:20260725T100000
DTEND;TZID=Europe/London:20260725T163000
DTSTAMP:20260425T001132
CREATED:20251109T144725Z
LAST-MODIFIED:20251109T144725Z
UID:22882-1784973600-1784997000@www.cotswoldelectricbiketours.co.uk
SUMMARY:Kingham
DESCRIPTION:
URL:https://www.cotswoldelectricbiketours.co.uk/date/kingham-761/
CATEGORIES:Kingham
END:VEVENT
BEGIN:VEVENT
DTSTART;TZID=Europe/London:20260726T100000
DTEND;TZID=Europe/London:20260726T163000
DTSTAMP:20260425T001132
CREATED:20251109T144934Z
LAST-MODIFIED:20251109T144934Z
UID:22885-1785060000-1785083400@www.cotswoldelectricbiketours.co.uk
SUMMARY:Burford
DESCRIPTION:
URL:https://www.cotswoldelectricbiketours.co.uk/date/burford-389/
CATEGORIES:Burford
END:VEVENT
BEGIN:VEVENT
DTSTART;TZID=Europe/London:20260727T100000
DTEND;TZID=Europe/London:20260727T163000
DTSTAMP:20260425T001132
CREATED:20251109T145123Z
LAST-MODIFIED:20251109T145123Z
UID:22888-1785146400-1785169800@www.cotswoldelectricbiketours.co.uk
SUMMARY:Burford
DESCRIPTION:
URL:https://www.cotswoldelectricbiketours.co.uk/date/burford-390/
CATEGORIES:Burford
END:VEVENT
BEGIN:VEVENT
DTSTART;TZID=Europe/London:20260728T100000
DTEND;TZID=Europe/London:20260728T163000
DTSTAMP:20260425T001132
CREATED:20251109T145354Z
LAST-MODIFIED:20251109T145354Z
UID:22891-1785232800-1785256200@www.cotswoldelectricbiketours.co.uk
SUMMARY:Kingham
DESCRIPTION:
URL:https://www.cotswoldelectricbiketours.co.uk/date/kingham-762/
CATEGORIES:Kingham
END:VEVENT
BEGIN:VEVENT
DTSTART;TZID=Europe/London:20260730T100000
DTEND;TZID=Europe/London:20260730T160000
DTSTAMP:20260425T001132
CREATED:20251109T145621Z
LAST-MODIFIED:20251109T145621Z
UID:22894-1785405600-1785427200@www.cotswoldelectricbiketours.co.uk
SUMMARY:Moreton-in-Marsh
DESCRIPTION:
URL:https://www.cotswoldelectricbiketours.co.uk/date/moreton-in-marsh-201/
CATEGORIES:Moreton-in-Marsh
END:VEVENT
BEGIN:VEVENT
DTSTART;TZID=Europe/London:20260731T100000
DTEND;TZID=Europe/London:20260731T163000
DTSTAMP:20260425T001132
CREATED:20251109T145845Z
LAST-MODIFIED:20251109T145845Z
UID:22897-1785492000-1785515400@www.cotswoldelectricbiketours.co.uk
SUMMARY:Kingham
DESCRIPTION:
URL:https://www.cotswoldelectricbiketours.co.uk/date/kingham-763/
CATEGORIES:Kingham
END:VEVENT
BEGIN:VEVENT
DTSTART;TZID=Europe/London:20260801T100000
DTEND;TZID=Europe/London:20260801T163000
DTSTAMP:20260425T001132
CREATED:20251109T150049Z
LAST-MODIFIED:20251109T150049Z
UID:22900-1785578400-1785601800@www.cotswoldelectricbiketours.co.uk
SUMMARY:Burford
DESCRIPTION:
URL:https://www.cotswoldelectricbiketours.co.uk/date/burford-391/
CATEGORIES:Burford
END:VEVENT
BEGIN:VEVENT
DTSTART;TZID=Europe/London:20260802T100000
DTEND;TZID=Europe/London:20260802T163000
DTSTAMP:20260425T001132
CREATED:20251109T150256Z
LAST-MODIFIED:20251109T150256Z
UID:22903-1785664800-1785688200@www.cotswoldelectricbiketours.co.uk
SUMMARY:Kingham
DESCRIPTION:
URL:https://www.cotswoldelectricbiketours.co.uk/date/kingham-764/
CATEGORIES:Kingham
END:VEVENT
BEGIN:VEVENT
DTSTART;TZID=Europe/London:20260803T100000
DTEND;TZID=Europe/London:20260803T163000
DTSTAMP:20260425T001132
CREATED:20251109T150544Z
LAST-MODIFIED:20251109T150544Z
UID:22906-1785751200-1785774600@www.cotswoldelectricbiketours.co.uk
SUMMARY:Burford
DESCRIPTION:
URL:https://www.cotswoldelectricbiketours.co.uk/date/burford-392/
CATEGORIES:Burford
END:VEVENT
BEGIN:VEVENT
DTSTART;TZID=Europe/London:20260804T100000
DTEND;TZID=Europe/London:20260804T163000
DTSTAMP:20260425T001132
CREATED:20251109T150743Z
LAST-MODIFIED:20251109T150743Z
UID:22909-1785837600-1785861000@www.cotswoldelectricbiketours.co.uk
SUMMARY:Kingham
DESCRIPTION:
URL:https://www.cotswoldelectricbiketours.co.uk/date/kingham-765/
CATEGORIES:Kingham
END:VEVENT
BEGIN:VEVENT
DTSTART;TZID=Europe/London:20260816T100000
DTEND;TZID=Europe/London:20260816T163000
DTSTAMP:20260425T001132
CREATED:20251109T151013Z
LAST-MODIFIED:20251109T151013Z
UID:22912-1786874400-1786897800@www.cotswoldelectricbiketours.co.uk
SUMMARY:Kingham
DESCRIPTION:
URL:https://www.cotswoldelectricbiketours.co.uk/date/kingham-766/
CATEGORIES:Kingham
END:VEVENT
BEGIN:VEVENT
DTSTART;TZID=Europe/London:20260817T100000
DTEND;TZID=Europe/London:20260817T160000
DTSTAMP:20260425T001132
CREATED:20251108T180600Z
LAST-MODIFIED:20251108T180600Z
UID:22791-1786960800-1786982400@www.cotswoldelectricbiketours.co.uk
SUMMARY:Moreton-in-Marsh
DESCRIPTION:
URL:https://www.cotswoldelectricbiketours.co.uk/date/moreton-in-marsh-194/
CATEGORIES:Moreton-in-Marsh
END:VEVENT
BEGIN:VEVENT
DTSTART;TZID=Europe/London:20260818T100000
DTEND;TZID=Europe/London:20260818T163000
DTSTAMP:20260425T001132
CREATED:20251109T151205Z
LAST-MODIFIED:20251109T151205Z
UID:22915-1787047200-1787070600@www.cotswoldelectricbiketours.co.uk
SUMMARY:Burford
DESCRIPTION:
URL:https://www.cotswoldelectricbiketours.co.uk/date/burford-393/
CATEGORIES:Burford
END:VEVENT
BEGIN:VEVENT
DTSTART;TZID=Europe/London:20260820T100000
DTEND;TZID=Europe/London:20260820T160000
DTSTAMP:20260425T001132
CREATED:20260303T084207Z
LAST-MODIFIED:20260303T084207Z
UID:23366-1787220000-1787241600@www.cotswoldelectricbiketours.co.uk
SUMMARY:Moreton-in-Marsh
DESCRIPTION:
URL:https://www.cotswoldelectricbiketours.co.uk/date/moreton-in-marsh-195/
CATEGORIES:Moreton-in-Marsh
END:VEVENT
BEGIN:VEVENT
DTSTART;TZID=Europe/London:20260821T100000
DTEND;TZID=Europe/London:20260821T163000
DTSTAMP:20260425T001132
CREATED:20251109T151658Z
LAST-MODIFIED:20251109T151658Z
UID:22921-1787306400-1787329800@www.cotswoldelectricbiketours.co.uk
SUMMARY:Donnington Brewery Experience
DESCRIPTION:
URL:https://www.cotswoldelectricbiketours.co.uk/date/donnington-brewery-experience-18/
CATEGORIES:Donnington Brewery Experience
END:VEVENT
BEGIN:VEVENT
DTSTART;TZID=Europe/London:20260822T100000
DTEND;TZID=Europe/London:20260822T163000
DTSTAMP:20260425T001132
CREATED:20251109T151919Z
LAST-MODIFIED:20251109T151919Z
UID:22924-1787392800-1787416200@www.cotswoldelectricbiketours.co.uk
SUMMARY:Burford
DESCRIPTION:
URL:https://www.cotswoldelectricbiketours.co.uk/date/burford-394/
CATEGORIES:Burford
END:VEVENT
BEGIN:VEVENT
DTSTART;TZID=Europe/London:20260824T100000
DTEND;TZID=Europe/London:20260824T163000
DTSTAMP:20260425T001132
CREATED:20251109T152106Z
LAST-MODIFIED:20251109T152106Z
UID:22927-1787565600-1787589000@www.cotswoldelectricbiketours.co.uk
SUMMARY:Burford
DESCRIPTION:
URL:https://www.cotswoldelectricbiketours.co.uk/date/burford-395/
CATEGORIES:Burford
END:VEVENT
BEGIN:VEVENT
DTSTART;TZID=Europe/London:20260825T100000
DTEND;TZID=Europe/London:20260825T163000
DTSTAMP:20260425T001132
CREATED:20251109T152303Z
LAST-MODIFIED:20251109T152303Z
UID:22930-1787652000-1787675400@www.cotswoldelectricbiketours.co.uk
SUMMARY:Kingham
DESCRIPTION:
URL:https://www.cotswoldelectricbiketours.co.uk/date/kingham-767/
CATEGORIES:Kingham
END:VEVENT
BEGIN:VEVENT
DTSTART;TZID=Europe/London:20260827T100000
DTEND;TZID=Europe/London:20260827T160000
DTSTAMP:20260425T001132
CREATED:20251109T152510Z
LAST-MODIFIED:20251109T152510Z
UID:22933-1787824800-1787846400@www.cotswoldelectricbiketours.co.uk
SUMMARY:Moreton-in-Marsh
DESCRIPTION:
URL:https://www.cotswoldelectricbiketours.co.uk/date/moreton-in-marsh-203/
CATEGORIES:Moreton-in-Marsh
END:VEVENT
BEGIN:VEVENT
DTSTART;TZID=Europe/London:20260828T100000
DTEND;TZID=Europe/London:20260828T163000
DTSTAMP:20260425T001132
CREATED:20251109T152719Z
LAST-MODIFIED:20251109T152719Z
UID:22936-1787911200-1787934600@www.cotswoldelectricbiketours.co.uk
SUMMARY:Kingham
DESCRIPTION:
URL:https://www.cotswoldelectricbiketours.co.uk/date/kingham-768/
CATEGORIES:Kingham
END:VEVENT
BEGIN:VEVENT
DTSTART;TZID=Europe/London:20260829T100000
DTEND;TZID=Europe/London:20260829T163000
DTSTAMP:20260425T001132
CREATED:20251109T152914Z
LAST-MODIFIED:20251109T152914Z
UID:22939-1787997600-1788021000@www.cotswoldelectricbiketours.co.uk
SUMMARY:Burford
DESCRIPTION:
URL:https://www.cotswoldelectricbiketours.co.uk/date/burford-396/
CATEGORIES:Burford
END:VEVENT
BEGIN:VEVENT
DTSTART;TZID=Europe/London:20260831T100000
DTEND;TZID=Europe/London:20260831T163000
DTSTAMP:20260425T001132
CREATED:20251109T153204Z
LAST-MODIFIED:20251109T153204Z
UID:22942-1788170400-1788193800@www.cotswoldelectricbiketours.co.uk
SUMMARY:Kingham
DESCRIPTION:
URL:https://www.cotswoldelectricbiketours.co.uk/date/kingham-769/
CATEGORIES:Kingham
END:VEVENT
BEGIN:VEVENT
DTSTART;TZID=Europe/London:20260901T100000
DTEND;TZID=Europe/London:20260901T170000
DTSTAMP:20260425T001132
CREATED:20260411T095731Z
LAST-MODIFIED:20260411T095731Z
UID:23591-1788256800-1788282000@www.cotswoldelectricbiketours.co.uk
SUMMARY:Burford
DESCRIPTION:
URL:https://www.cotswoldelectricbiketours.co.uk/date/burford-378/
CATEGORIES:Burford
END:VEVENT
BEGIN:VEVENT
DTSTART;TZID=Europe/London:20260903T100000
DTEND;TZID=Europe/London:20260903T160000
DTSTAMP:20260425T001132
CREATED:20251109T154314Z
LAST-MODIFIED:20251109T154314Z
UID:22947-1788429600-1788451200@www.cotswoldelectricbiketours.co.uk
SUMMARY:Moreton-in-Marsh
DESCRIPTION:
URL:https://www.cotswoldelectricbiketours.co.uk/date/moreton-in-marsh-204/
CATEGORIES:Moreton-in-Marsh
END:VEVENT
BEGIN:VEVENT
DTSTART;TZID=Europe/London:20260904T100000
DTEND;TZID=Europe/London:20260904T170000
DTSTAMP:20260425T001132
CREATED:20251109T154549Z
LAST-MODIFIED:20251109T154549Z
UID:22950-1788516000-1788541200@www.cotswoldelectricbiketours.co.uk
SUMMARY:Donnington Brewery Experience
DESCRIPTION:
URL:https://www.cotswoldelectricbiketours.co.uk/date/donnington-brewery-experience-23/
CATEGORIES:Donnington Brewery Experience
END:VEVENT
BEGIN:VEVENT
DTSTART;TZID=Europe/London:20260907T100000
DTEND;TZID=Europe/London:20260907T163000
DTSTAMP:20260425T001132
CREATED:20251109T155036Z
LAST-MODIFIED:20251109T155036Z
UID:22956-1788775200-1788798600@www.cotswoldelectricbiketours.co.uk
SUMMARY:Burford
DESCRIPTION:
URL:https://www.cotswoldelectricbiketours.co.uk/date/burford-399/
CATEGORIES:Burford
END:VEVENT
BEGIN:VEVENT
DTSTART;TZID=Europe/London:20260908T100000
DTEND;TZID=Europe/London:20260908T163000
DTSTAMP:20260425T001132
CREATED:20251109T155223Z
LAST-MODIFIED:20251109T155223Z
UID:22959-1788861600-1788885000@www.cotswoldelectricbiketours.co.uk
SUMMARY:Kingham
DESCRIPTION:
URL:https://www.cotswoldelectricbiketours.co.uk/date/kingham-770/
CATEGORIES:Kingham
END:VEVENT
BEGIN:VEVENT
DTSTART;TZID=Europe/London:20260910T100000
DTEND;TZID=Europe/London:20260910T163000
DTSTAMP:20260425T001132
CREATED:20251109T155439Z
LAST-MODIFIED:20251109T155439Z
UID:22962-1789034400-1789057800@www.cotswoldelectricbiketours.co.uk
SUMMARY:Moreton-in-Marsh
DESCRIPTION:
URL:https://www.cotswoldelectricbiketours.co.uk/date/moreton-in-marsh-205/
CATEGORIES:Moreton-in-Marsh
END:VEVENT
END:VCALENDAR