BEGIN:VCALENDAR
VERSION:2.0
PRODID:-//Cotswold Electric Bike Tours - ECPv6.15.20//NONSGML v1.0//EN
CALSCALE:GREGORIAN
METHOD:PUBLISH
X-WR-CALNAME:Cotswold Electric Bike Tours
X-ORIGINAL-URL:https://www.cotswoldelectricbiketours.co.uk
X-WR-CALDESC:Events for Cotswold Electric Bike Tours
REFRESH-INTERVAL;VALUE=DURATION:PT1H
X-Robots-Tag:noindex
X-PUBLISHED-TTL:PT1H
BEGIN:VTIMEZONE
TZID:Europe/London
BEGIN:DAYLIGHT
TZOFFSETFROM:+0000
TZOFFSETTO:+0100
TZNAME:BST
DTSTART:20240331T010000
END:DAYLIGHT
BEGIN:STANDARD
TZOFFSETFROM:+0100
TZOFFSETTO:+0000
TZNAME:GMT
DTSTART:20241027T010000
END:STANDARD
BEGIN:DAYLIGHT
TZOFFSETFROM:+0000
TZOFFSETTO:+0100
TZNAME:BST
DTSTART:20250330T010000
END:DAYLIGHT
BEGIN:STANDARD
TZOFFSETFROM:+0100
TZOFFSETTO:+0000
TZNAME:GMT
DTSTART:20251026T010000
END:STANDARD
BEGIN:DAYLIGHT
TZOFFSETFROM:+0000
TZOFFSETTO:+0100
TZNAME:BST
DTSTART:20260329T010000
END:DAYLIGHT
BEGIN:STANDARD
TZOFFSETFROM:+0100
TZOFFSETTO:+0000
TZNAME:GMT
DTSTART:20261025T010000
END:STANDARD
END:VTIMEZONE
BEGIN:VEVENT
DTSTART;TZID=Europe/London:20250806T090000
DTEND;TZID=Europe/London:20250806T170000
DTSTAMP:20260425T011245
CREATED:20250804T174206Z
LAST-MODIFIED:20250804T174206Z
UID:22281-1754470800-1754499600@www.cotswoldelectricbiketours.co.uk
SUMMARY:Kingham
DESCRIPTION:
URL:https://www.cotswoldelectricbiketours.co.uk/date/kingham-665/
CATEGORIES:Kingham
END:VEVENT
BEGIN:VEVENT
DTSTART;TZID=Europe/London:20250805T093000
DTEND;TZID=Europe/London:20250805T170000
DTSTAMP:20260425T011245
CREATED:20250324T105206Z
LAST-MODIFIED:20250324T105206Z
UID:21084-1754386200-1754413200@www.cotswoldelectricbiketours.co.uk
SUMMARY:Kingham
DESCRIPTION:
URL:https://www.cotswoldelectricbiketours.co.uk/date/kingham-691/
CATEGORIES:Kingham
END:VEVENT
BEGIN:VEVENT
DTSTART;TZID=Europe/London:20250805T093000
DTEND;TZID=Europe/London:20250805T170000
DTSTAMP:20260425T011245
CREATED:20250324T101201Z
LAST-MODIFIED:20250324T101201Z
UID:21077-1754386200-1754413200@www.cotswoldelectricbiketours.co.uk
SUMMARY:Burford
DESCRIPTION:
URL:https://www.cotswoldelectricbiketours.co.uk/date/burford-345/
CATEGORIES:Burford
END:VEVENT
BEGIN:VEVENT
DTSTART;TZID=Europe/London:20250804T100000
DTEND;TZID=Europe/London:20250804T163000
DTSTAMP:20260425T011245
CREATED:20250527T084028Z
LAST-MODIFIED:20250527T084028Z
UID:21752-1754301600-1754325000@www.cotswoldelectricbiketours.co.uk
SUMMARY:Kingham
DESCRIPTION:
URL:https://www.cotswoldelectricbiketours.co.uk/date/kingham-713/
CATEGORIES:Kingham
END:VEVENT
BEGIN:VEVENT
DTSTART;TZID=Europe/London:20250803T100000
DTEND;TZID=Europe/London:20250803T170000
DTSTAMP:20260425T011245
CREATED:20250730T203148Z
LAST-MODIFIED:20250730T203148Z
UID:22242-1754215200-1754240400@www.cotswoldelectricbiketours.co.uk
SUMMARY:Chipping Campden
DESCRIPTION:
URL:https://www.cotswoldelectricbiketours.co.uk/date/chipping-campden-92/
CATEGORIES:Chipping Campden
END:VEVENT
BEGIN:VEVENT
DTSTART;TZID=Europe/London:20250802T100000
DTEND;TZID=Europe/London:20250802T170000
DTSTAMP:20260425T011245
CREATED:20250730T202359Z
LAST-MODIFIED:20250730T202359Z
UID:22239-1754128800-1754154000@www.cotswoldelectricbiketours.co.uk
SUMMARY:Chipping Campden
DESCRIPTION:
URL:https://www.cotswoldelectricbiketours.co.uk/date/chipping-campden-91/
CATEGORIES:Chipping Campden
END:VEVENT
BEGIN:VEVENT
DTSTART;TZID=Europe/London:20250731T100000
DTEND;TZID=Europe/London:20250731T160000
DTSTAMP:20260425T011245
CREATED:20250217T164406Z
LAST-MODIFIED:20250217T164406Z
UID:20615-1753956000-1753977600@www.cotswoldelectricbiketours.co.uk
SUMMARY:Moreton-in-Marsh
DESCRIPTION:
URL:https://www.cotswoldelectricbiketours.co.uk/date/moreton-in-marsh-170/
CATEGORIES:Moreton-in-Marsh
END:VEVENT
BEGIN:VEVENT
DTSTART;TZID=Europe/London:20250730T110000
DTEND;TZID=Europe/London:20250730T150000
DTSTAMP:20260425T011245
CREATED:20250510T172433Z
LAST-MODIFIED:20250510T172433Z
UID:21558-1753873200-1753887600@www.cotswoldelectricbiketours.co.uk
SUMMARY:Chipping Campden
DESCRIPTION:
URL:https://www.cotswoldelectricbiketours.co.uk/date/chipping-campden-90/
CATEGORIES:Chipping Campden
END:VEVENT
BEGIN:VEVENT
DTSTART;TZID=Europe/London:20250729T100000
DTEND;TZID=Europe/London:20250729T163000
DTSTAMP:20260425T011245
CREATED:20250613T101311Z
LAST-MODIFIED:20250613T101311Z
UID:21879-1753783200-1753806600@www.cotswoldelectricbiketours.co.uk
SUMMARY:Kingham
DESCRIPTION:
URL:https://www.cotswoldelectricbiketours.co.uk/date/kingham-666/
CATEGORIES:Kingham
END:VEVENT
BEGIN:VEVENT
DTSTART;TZID=Europe/London:20250728T100000
DTEND;TZID=Europe/London:20250728T163000
DTSTAMP:20260425T011245
CREATED:20250613T101100Z
LAST-MODIFIED:20250613T101100Z
UID:21876-1753696800-1753720200@www.cotswoldelectricbiketours.co.uk
SUMMARY:Burford
DESCRIPTION:
URL:https://www.cotswoldelectricbiketours.co.uk/date/burford-318/
CATEGORIES:Burford
END:VEVENT
BEGIN:VEVENT
DTSTART;TZID=Europe/London:20250720T100000
DTEND;TZID=Europe/London:20250720T170000
DTSTAMP:20260425T011245
CREATED:20250713T173244Z
LAST-MODIFIED:20250713T173244Z
UID:22116-1753005600-1753030800@www.cotswoldelectricbiketours.co.uk
SUMMARY:Kingham
DESCRIPTION:
URL:https://www.cotswoldelectricbiketours.co.uk/date/kingham-722-2/
CATEGORIES:Kingham
END:VEVENT
BEGIN:VEVENT
DTSTART;TZID=Europe/London:20250718T100000
DTEND;TZID=Europe/London:20250718T170000
DTSTAMP:20260425T011245
CREATED:20250630T074603Z
LAST-MODIFIED:20250630T074603Z
UID:22040-1752832800-1752858000@www.cotswoldelectricbiketours.co.uk
SUMMARY:Burford
DESCRIPTION:
URL:https://www.cotswoldelectricbiketours.co.uk/date/burford-324/
CATEGORIES:Burford
END:VEVENT
BEGIN:VEVENT
DTSTART;TZID=Europe/London:20250717T100000
DTEND;TZID=Europe/London:20250717T160000
DTSTAMP:20260425T011245
CREATED:20241119T111602Z
LAST-MODIFIED:20241119T111602Z
UID:19392-1752746400-1752768000@www.cotswoldelectricbiketours.co.uk
SUMMARY:Moreton-in-Marsh
DESCRIPTION:
URL:https://www.cotswoldelectricbiketours.co.uk/date/moreton-in-marsh-174/
CATEGORIES:Moreton-in-Marsh
END:VEVENT
BEGIN:VEVENT
DTSTART;TZID=Europe/London:20250717T090000
DTEND;TZID=Europe/London:20250717T170000
DTSTAMP:20260425T011245
CREATED:20250710T170038Z
LAST-MODIFIED:20250710T170038Z
UID:22101-1752742800-1752771600@www.cotswoldelectricbiketours.co.uk
SUMMARY:Kingham
DESCRIPTION:
URL:https://www.cotswoldelectricbiketours.co.uk/date/kingham-722/
CATEGORIES:Kingham
END:VEVENT
BEGIN:VEVENT
DTSTART;TZID=Europe/London:20250716T100000
DTEND;TZID=Europe/London:20250716T163000
DTSTAMP:20260425T011245
CREATED:20250624T174617Z
LAST-MODIFIED:20250624T174617Z
UID:21981-1752660000-1752683400@www.cotswoldelectricbiketours.co.uk
SUMMARY:Kingham
DESCRIPTION:
URL:https://www.cotswoldelectricbiketours.co.uk/date/kingham-719/
CATEGORIES:Kingham
END:VEVENT
BEGIN:VEVENT
DTSTART;TZID=Europe/London:20250715T100000
DTEND;TZID=Europe/London:20250715T160000
DTSTAMP:20260425T011245
CREATED:20241119T111331Z
LAST-MODIFIED:20241119T111331Z
UID:19389-1752573600-1752595200@www.cotswoldelectricbiketours.co.uk
SUMMARY:Kingham
DESCRIPTION:
URL:https://www.cotswoldelectricbiketours.co.uk/date/kingham-664/
CATEGORIES:Kingham
END:VEVENT
BEGIN:VEVENT
DTSTART;TZID=Europe/London:20250714T100000
DTEND;TZID=Europe/London:20250714T160000
DTSTAMP:20260425T011245
CREATED:20241119T111107Z
LAST-MODIFIED:20241119T111107Z
UID:19386-1752487200-1752508800@www.cotswoldelectricbiketours.co.uk
SUMMARY:Burford
DESCRIPTION:
URL:https://www.cotswoldelectricbiketours.co.uk/date/burford-325/
CATEGORIES:Burford
END:VEVENT
BEGIN:VEVENT
DTSTART;TZID=Europe/London:20250713T100000
DTEND;TZID=Europe/London:20250713T160000
DTSTAMP:20260425T011245
CREATED:20241119T110703Z
LAST-MODIFIED:20241119T110703Z
UID:19383-1752400800-1752422400@www.cotswoldelectricbiketours.co.uk
SUMMARY:Kingham
DESCRIPTION:
URL:https://www.cotswoldelectricbiketours.co.uk/date/kingham-663/
CATEGORIES:Kingham
END:VEVENT
BEGIN:VEVENT
DTSTART;TZID=Europe/London:20250712T100000
DTEND;TZID=Europe/London:20250712T160000
DTSTAMP:20260425T011245
CREATED:20250106T180447Z
LAST-MODIFIED:20250106T180447Z
UID:20195-1752314400-1752336000@www.cotswoldelectricbiketours.co.uk
SUMMARY:Burford
DESCRIPTION:
URL:https://www.cotswoldelectricbiketours.co.uk/date/burford-347/
CATEGORIES:Burford
END:VEVENT
BEGIN:VEVENT
DTSTART;TZID=Europe/London:20250711T103000
DTEND;TZID=Europe/London:20250711T170000
DTSTAMP:20260425T011245
CREATED:20250622T193301Z
LAST-MODIFIED:20250622T193301Z
UID:21963-1752229800-1752253200@www.cotswoldelectricbiketours.co.uk
SUMMARY:Kingham
DESCRIPTION:
URL:https://www.cotswoldelectricbiketours.co.uk/date/kingham-718/
CATEGORIES:Kingham
END:VEVENT
BEGIN:VEVENT
DTSTART;TZID=Europe/London:20250710T100000
DTEND;TZID=Europe/London:20250710T160000
DTSTAMP:20260425T011245
CREATED:20250603T095855Z
LAST-MODIFIED:20250603T095855Z
UID:21791-1752141600-1752163200@www.cotswoldelectricbiketours.co.uk
SUMMARY:Moreton-in-Marsh
DESCRIPTION:
URL:https://www.cotswoldelectricbiketours.co.uk/date/moreton-in-marsh-172/
CATEGORIES:Moreton-in-Marsh
END:VEVENT
BEGIN:VEVENT
DTSTART;TZID=Europe/London:20250709T100000
DTEND;TZID=Europe/London:20250709T170000
DTSTAMP:20260425T011245
CREATED:20250704T165109Z
LAST-MODIFIED:20250704T165109Z
UID:22072-1752055200-1752080400@www.cotswoldelectricbiketours.co.uk
SUMMARY:Burford
DESCRIPTION:
URL:https://www.cotswoldelectricbiketours.co.uk/date/burford-358/
CATEGORIES:Burford
END:VEVENT
BEGIN:VEVENT
DTSTART;TZID=Europe/London:20250709T100000
DTEND;TZID=Europe/London:20250709T163000
DTSTAMP:20260425T011245
CREATED:20250707T080634Z
LAST-MODIFIED:20250707T080634Z
UID:22078-1752055200-1752078600@www.cotswoldelectricbiketours.co.uk
SUMMARY:Northleach
DESCRIPTION:
URL:https://www.cotswoldelectricbiketours.co.uk/date/northleach-139/
CATEGORIES:Northleach
END:VEVENT
BEGIN:VEVENT
DTSTART;TZID=Europe/London:20250707T100000
DTEND;TZID=Europe/London:20250707T170000
DTSTAMP:20260425T011245
CREATED:20250704T085831Z
LAST-MODIFIED:20250704T085831Z
UID:22067-1751882400-1751907600@www.cotswoldelectricbiketours.co.uk
SUMMARY:Kingham
DESCRIPTION:
URL:https://www.cotswoldelectricbiketours.co.uk/date/kingham-711/
CATEGORIES:Kingham
END:VEVENT
BEGIN:VEVENT
DTSTART;TZID=Europe/London:20250706T100000
DTEND;TZID=Europe/London:20250706T160000
DTSTAMP:20260425T011245
CREATED:20241112T175809Z
LAST-MODIFIED:20241112T175809Z
UID:19241-1751796000-1751817600@www.cotswoldelectricbiketours.co.uk
SUMMARY:Kingham
DESCRIPTION:
URL:https://www.cotswoldelectricbiketours.co.uk/date/kingham-661/
CATEGORIES:Kingham
END:VEVENT
BEGIN:VEVENT
DTSTART;TZID=Europe/London:20250705T100000
DTEND;TZID=Europe/London:20250705T160000
DTSTAMP:20260425T011245
CREATED:20250106T180312Z
LAST-MODIFIED:20250106T180312Z
UID:20192-1751709600-1751731200@www.cotswoldelectricbiketours.co.uk
SUMMARY:Burford
DESCRIPTION:
URL:https://www.cotswoldelectricbiketours.co.uk/date/burford-346/
CATEGORIES:Burford
END:VEVENT
BEGIN:VEVENT
DTSTART;TZID=Europe/London:20250704T100000
DTEND;TZID=Europe/London:20250704T170000
DTSTAMP:20260425T011245
CREATED:20250615T192528Z
LAST-MODIFIED:20250615T192528Z
UID:21901-1751623200-1751648400@www.cotswoldelectricbiketours.co.uk
SUMMARY:Kingham
DESCRIPTION:
URL:https://www.cotswoldelectricbiketours.co.uk/date/kingham-675/
CATEGORIES:Kingham
END:VEVENT
BEGIN:VEVENT
DTSTART;TZID=Europe/London:20250703T100000
DTEND;TZID=Europe/London:20250703T160000
DTSTAMP:20260425T011245
CREATED:20241119T113324Z
LAST-MODIFIED:20241119T113324Z
UID:19414-1751536800-1751558400@www.cotswoldelectricbiketours.co.uk
SUMMARY:Moreton-in-Marsh
DESCRIPTION:
URL:https://www.cotswoldelectricbiketours.co.uk/date/moreton-in-marsh-176/
CATEGORIES:Moreton-in-Marsh
END:VEVENT
BEGIN:VEVENT
DTSTART;TZID=Europe/London:20250703T080000
DTEND;TZID=Europe/London:20250703T170000
DTSTAMP:20260425T011245
CREATED:20250630T154121Z
LAST-MODIFIED:20250630T154121Z
UID:22051-1751529600-1751562000@www.cotswoldelectricbiketours.co.uk
SUMMARY:Kingham
DESCRIPTION:
URL:https://www.cotswoldelectricbiketours.co.uk/date/kingham-720/
CATEGORIES:Kingham
END:VEVENT
BEGIN:VEVENT
DTSTART;TZID=Europe/London:20250702T103000
DTEND;TZID=Europe/London:20250702T170000
DTSTAMP:20260425T011245
CREATED:20250630T075330Z
LAST-MODIFIED:20250630T075330Z
UID:22043-1751452200-1751475600@www.cotswoldelectricbiketours.co.uk
SUMMARY:Burford
DESCRIPTION:
URL:https://www.cotswoldelectricbiketours.co.uk/date/burford-326/
CATEGORIES:Burford
END:VEVENT
END:VCALENDAR