BEGIN:VCALENDAR
VERSION:2.0
PRODID:-//Cotswold Electric Bike Tours - ECPv6.15.20//NONSGML v1.0//EN
CALSCALE:GREGORIAN
METHOD:PUBLISH
X-WR-CALNAME:Cotswold Electric Bike Tours
X-ORIGINAL-URL:https://www.cotswoldelectricbiketours.co.uk
X-WR-CALDESC:Events for Cotswold Electric Bike Tours
REFRESH-INTERVAL;VALUE=DURATION:PT1H
X-Robots-Tag:noindex
X-PUBLISHED-TTL:PT1H
BEGIN:VTIMEZONE
TZID:Europe/London
BEGIN:DAYLIGHT
TZOFFSETFROM:+0000
TZOFFSETTO:+0100
TZNAME:BST
DTSTART:20240331T010000
END:DAYLIGHT
BEGIN:STANDARD
TZOFFSETFROM:+0100
TZOFFSETTO:+0000
TZNAME:GMT
DTSTART:20241027T010000
END:STANDARD
BEGIN:DAYLIGHT
TZOFFSETFROM:+0000
TZOFFSETTO:+0100
TZNAME:BST
DTSTART:20250330T010000
END:DAYLIGHT
BEGIN:STANDARD
TZOFFSETFROM:+0100
TZOFFSETTO:+0000
TZNAME:GMT
DTSTART:20251026T010000
END:STANDARD
BEGIN:DAYLIGHT
TZOFFSETFROM:+0000
TZOFFSETTO:+0100
TZNAME:BST
DTSTART:20260329T010000
END:DAYLIGHT
BEGIN:STANDARD
TZOFFSETFROM:+0100
TZOFFSETTO:+0000
TZNAME:GMT
DTSTART:20261025T010000
END:STANDARD
BEGIN:DAYLIGHT
TZOFFSETFROM:+0000
TZOFFSETTO:+0100
TZNAME:BST
DTSTART:20270328T010000
END:DAYLIGHT
BEGIN:STANDARD
TZOFFSETFROM:+0100
TZOFFSETTO:+0000
TZNAME:GMT
DTSTART:20271031T010000
END:STANDARD
END:VTIMEZONE
BEGIN:VEVENT
DTSTART;TZID=Europe/London:20260506T100000
DTEND;TZID=Europe/London:20260506T163000
DTSTAMP:20260424T213628
CREATED:20251105T100606Z
LAST-MODIFIED:20251105T100606Z
UID:22673-1778061600-1778085000@www.cotswoldelectricbiketours.co.uk
SUMMARY:Bourton-on-the-Water
DESCRIPTION:
URL:https://www.cotswoldelectricbiketours.co.uk/date/bourton-on-the-water-50/
CATEGORIES:Bourton-on-the-Water
END:VEVENT
BEGIN:VEVENT
DTSTART;TZID=Europe/London:20260505T100000
DTEND;TZID=Europe/London:20260505T163000
DTSTAMP:20260424T213628
CREATED:20251108T164839Z
LAST-MODIFIED:20251108T164839Z
UID:22704-1777975200-1777998600@www.cotswoldelectricbiketours.co.uk
SUMMARY:Kingham
DESCRIPTION:
URL:https://www.cotswoldelectricbiketours.co.uk/date/kingham-739/
CATEGORIES:Kingham
END:VEVENT
BEGIN:VEVENT
DTSTART;TZID=Europe/London:20260504T100000
DTEND;TZID=Europe/London:20260504T170000
DTSTAMP:20260424T213628
CREATED:20260308T202901Z
LAST-MODIFIED:20260308T202901Z
UID:23406-1777888800-1777914000@www.cotswoldelectricbiketours.co.uk
SUMMARY:Northleach
DESCRIPTION:
URL:https://www.cotswoldelectricbiketours.co.uk/date/northleach-142/
CATEGORIES:Northleach
END:VEVENT
BEGIN:VEVENT
DTSTART;TZID=Europe/London:20260430T100000
DTEND;TZID=Europe/London:20260430T160000
DTSTAMP:20260424T213628
CREATED:20251109T163324Z
LAST-MODIFIED:20251109T163324Z
UID:23013-1777543200-1777564800@www.cotswoldelectricbiketours.co.uk
SUMMARY:Moreton-in-Marsh
DESCRIPTION:
URL:https://www.cotswoldelectricbiketours.co.uk/date/moreton-in-marsh-208/
CATEGORIES:Moreton-in-Marsh
END:VEVENT
BEGIN:VEVENT
DTSTART;TZID=Europe/London:20260428T100000
DTEND;TZID=Europe/London:20260428T163000
DTSTAMP:20260424T213628
CREATED:20251109T163525Z
LAST-MODIFIED:20251109T163525Z
UID:23016-1777370400-1777393800@www.cotswoldelectricbiketours.co.uk
SUMMARY:Kingham
DESCRIPTION:
URL:https://www.cotswoldelectricbiketours.co.uk/date/kingham-778/
CATEGORIES:Kingham
END:VEVENT
BEGIN:VEVENT
DTSTART;TZID=Europe/London:20260427T100000
DTEND;TZID=Europe/London:20260427T163000
DTSTAMP:20260424T213628
CREATED:20251109T163751Z
LAST-MODIFIED:20251109T163751Z
UID:23020-1777284000-1777307400@www.cotswoldelectricbiketours.co.uk
SUMMARY:Burford
DESCRIPTION:
URL:https://www.cotswoldelectricbiketours.co.uk/date/burford-407/
CATEGORIES:Burford
END:VEVENT
BEGIN:VEVENT
DTSTART;TZID=Europe/London:20260425T100000
DTEND;TZID=Europe/London:20260425T163000
DTSTAMP:20260424T213628
CREATED:20251109T164130Z
LAST-MODIFIED:20251109T164130Z
UID:23023-1777111200-1777134600@www.cotswoldelectricbiketours.co.uk
SUMMARY:Burford
DESCRIPTION:
URL:https://www.cotswoldelectricbiketours.co.uk/date/burford-408/
CATEGORIES:Burford
END:VEVENT
BEGIN:VEVENT
DTSTART;TZID=Europe/London:20260424T100000
DTEND;TZID=Europe/London:20260424T163000
DTSTAMP:20260424T213628
CREATED:20251109T164325Z
LAST-MODIFIED:20251109T164325Z
UID:23026-1777024800-1777048200@www.cotswoldelectricbiketours.co.uk
SUMMARY:Kingham
DESCRIPTION:
URL:https://www.cotswoldelectricbiketours.co.uk/date/kingham-779/
CATEGORIES:Kingham
END:VEVENT
BEGIN:VEVENT
DTSTART;TZID=Europe/London:20260423T100000
DTEND;TZID=Europe/London:20260423T160000
DTSTAMP:20260424T213628
CREATED:20251109T164517Z
LAST-MODIFIED:20251109T164517Z
UID:23029-1776938400-1776960000@www.cotswoldelectricbiketours.co.uk
SUMMARY:Moreton-in-Marsh
DESCRIPTION:
URL:https://www.cotswoldelectricbiketours.co.uk/date/moreton-in-marsh-209/
CATEGORIES:Moreton-in-Marsh
END:VEVENT
BEGIN:VEVENT
DTSTART;TZID=Europe/London:20260421T100000
DTEND;TZID=Europe/London:20260421T163000
DTSTAMP:20260424T213628
CREATED:20251109T164703Z
LAST-MODIFIED:20251109T164703Z
UID:23032-1776765600-1776789000@www.cotswoldelectricbiketours.co.uk
SUMMARY:Kingham
DESCRIPTION:
URL:https://www.cotswoldelectricbiketours.co.uk/date/kingham-780/
CATEGORIES:Kingham
END:VEVENT
BEGIN:VEVENT
DTSTART;TZID=Europe/London:20260420T100000
DTEND;TZID=Europe/London:20260420T160000
DTSTAMP:20260424T213628
CREATED:20260117T120523Z
LAST-MODIFIED:20260117T120523Z
UID:23166-1776679200-1776700800@www.cotswoldelectricbiketours.co.uk
SUMMARY:Moreton-in-Marsh
DESCRIPTION:
URL:https://www.cotswoldelectricbiketours.co.uk/date/moreton-in-marsh-211/
CATEGORIES:Moreton-in-Marsh
END:VEVENT
BEGIN:VEVENT
DTSTART;TZID=Europe/London:20260419T100000
DTEND;TZID=Europe/London:20260419T163000
DTSTAMP:20260424T213628
CREATED:20260117T120741Z
LAST-MODIFIED:20260117T120741Z
UID:23169-1776592800-1776616200@www.cotswoldelectricbiketours.co.uk
SUMMARY:Burford
DESCRIPTION:
URL:https://www.cotswoldelectricbiketours.co.uk/date/burford-382/
CATEGORIES:Burford
END:VEVENT
BEGIN:VEVENT
DTSTART;TZID=Europe/London:20260418T100000
DTEND;TZID=Europe/London:20260418T163000
DTSTAMP:20260424T213628
CREATED:20251109T165232Z
LAST-MODIFIED:20251109T165232Z
UID:23038-1776506400-1776529800@www.cotswoldelectricbiketours.co.uk
SUMMARY:Kingham
DESCRIPTION:
URL:https://www.cotswoldelectricbiketours.co.uk/date/kingham-781/
CATEGORIES:Kingham
END:VEVENT
BEGIN:VEVENT
DTSTART;TZID=Europe/London:20260417T100000
DTEND;TZID=Europe/London:20260417T163000
DTSTAMP:20260424T213628
CREATED:20251109T165424Z
LAST-MODIFIED:20251109T165424Z
UID:23041-1776420000-1776443400@www.cotswoldelectricbiketours.co.uk
SUMMARY:Burford
DESCRIPTION:
URL:https://www.cotswoldelectricbiketours.co.uk/date/burford-410/
CATEGORIES:Burford
END:VEVENT
BEGIN:VEVENT
DTSTART;TZID=Europe/London:20260416T100000
DTEND;TZID=Europe/London:20260416T160000
DTSTAMP:20260424T213628
CREATED:20251109T165614Z
LAST-MODIFIED:20251109T165614Z
UID:23044-1776333600-1776355200@www.cotswoldelectricbiketours.co.uk
SUMMARY:Moreton-in-Marsh
DESCRIPTION:
URL:https://www.cotswoldelectricbiketours.co.uk/date/moreton-in-marsh-210/
CATEGORIES:Moreton-in-Marsh
END:VEVENT
BEGIN:VEVENT
DTSTART;TZID=Europe/London:20260415T100000
DTEND;TZID=Europe/London:20260415T170000
DTSTAMP:20260424T213628
CREATED:20260403T092317Z
LAST-MODIFIED:20260403T092317Z
UID:23530-1776247200-1776272400@www.cotswoldelectricbiketours.co.uk
SUMMARY:Kingham
DESCRIPTION:
URL:https://www.cotswoldelectricbiketours.co.uk/date/kingham-791/
CATEGORIES:Kingham
END:VEVENT
BEGIN:VEVENT
DTSTART;TZID=Europe/London:20260415T100000
DTEND;TZID=Europe/London:20260415T170000
DTSTAMP:20260424T213628
CREATED:20260326T150551Z
LAST-MODIFIED:20260326T150551Z
UID:23486-1776247200-1776272400@www.cotswoldelectricbiketours.co.uk
SUMMARY:Kingham
DESCRIPTION:
URL:https://www.cotswoldelectricbiketours.co.uk/date/kingham-782/
CATEGORIES:Kingham
END:VEVENT
BEGIN:VEVENT
DTSTART;TZID=Europe/London:20260414T100000
DTEND;TZID=Europe/London:20260414T163000
DTSTAMP:20260424T213628
CREATED:20260305T131202Z
LAST-MODIFIED:20260305T131202Z
UID:23395-1776160800-1776184200@www.cotswoldelectricbiketours.co.uk
SUMMARY:Burford
DESCRIPTION:
URL:https://www.cotswoldelectricbiketours.co.uk/date/burford-374/
CATEGORIES:Burford
END:VEVENT
BEGIN:VEVENT
DTSTART;TZID=Europe/London:20260413T100000
DTEND;TZID=Europe/London:20260413T163000
DTSTAMP:20260424T213628
CREATED:20260305T130904Z
LAST-MODIFIED:20260305T130904Z
UID:23392-1776074400-1776097800@www.cotswoldelectricbiketours.co.uk
SUMMARY:Kingham
DESCRIPTION:
URL:https://www.cotswoldelectricbiketours.co.uk/date/kingham-789/
CATEGORIES:Kingham
END:VEVENT
BEGIN:VEVENT
DTSTART;TZID=Europe/London:20260410T100000
DTEND;TZID=Europe/London:20260410T163000
DTSTAMP:20260424T213628
CREATED:20260303T135504Z
LAST-MODIFIED:20260303T135504Z
UID:23380-1775815200-1775838600@www.cotswoldelectricbiketours.co.uk
SUMMARY:Kingham
DESCRIPTION:
URL:https://www.cotswoldelectricbiketours.co.uk/date/kingham-788/
CATEGORIES:Kingham
END:VEVENT
BEGIN:VEVENT
DTSTART;TZID=Europe/London:20260409T100000
DTEND;TZID=Europe/London:20260409T160000
DTSTAMP:20260424T213628
CREATED:20260303T135230Z
LAST-MODIFIED:20260303T135230Z
UID:23377-1775728800-1775750400@www.cotswoldelectricbiketours.co.uk
SUMMARY:Moreton-in-Marsh
DESCRIPTION:
URL:https://www.cotswoldelectricbiketours.co.uk/date/moreton-in-marsh-202/
CATEGORIES:Moreton-in-Marsh
END:VEVENT
BEGIN:VEVENT
DTSTART;TZID=Europe/London:20260407T100000
DTEND;TZID=Europe/London:20260407T160000
DTSTAMP:20260424T213628
CREATED:20260305T130439Z
LAST-MODIFIED:20260305T130439Z
UID:23389-1775556000-1775577600@www.cotswoldelectricbiketours.co.uk
SUMMARY:Moreton-in-Marsh
DESCRIPTION:
URL:https://www.cotswoldelectricbiketours.co.uk/date/moreton-in-marsh-214/
CATEGORIES:Moreton-in-Marsh
END:VEVENT
BEGIN:VEVENT
DTSTART;TZID=Europe/London:20260406T100000
DTEND;TZID=Europe/London:20260406T163000
DTSTAMP:20260424T213628
CREATED:20260303T134715Z
LAST-MODIFIED:20260303T134715Z
UID:23371-1775469600-1775493000@www.cotswoldelectricbiketours.co.uk
SUMMARY:Kingham
DESCRIPTION:
URL:https://www.cotswoldelectricbiketours.co.uk/date/kingham-751/
CATEGORIES:Kingham
END:VEVENT
BEGIN:VEVENT
DTSTART;TZID=Europe/London:20260403T100000
DTEND;TZID=Europe/London:20260403T170000
DTSTAMP:20260424T213628
CREATED:20260401T084702Z
LAST-MODIFIED:20260401T084702Z
UID:23522-1775210400-1775235600@www.cotswoldelectricbiketours.co.uk
SUMMARY:Kingham
DESCRIPTION:
URL:https://www.cotswoldelectricbiketours.co.uk/date/kingham-790/
CATEGORIES:Kingham
END:VEVENT
BEGIN:VEVENT
DTSTART;TZID=Europe/London:20260225T100000
DTEND;TZID=Europe/London:20260225T160000
DTSTAMP:20260424T213628
CREATED:20260221T094525Z
LAST-MODIFIED:20260221T094525Z
UID:23324-1772013600-1772035200@www.cotswoldelectricbiketours.co.uk
SUMMARY:Kingham
DESCRIPTION:
URL:https://www.cotswoldelectricbiketours.co.uk/date/kingham-753/
CATEGORIES:Kingham
END:VEVENT
BEGIN:VEVENT
DTSTART;TZID=Europe/London:20260207T080000
DTEND;TZID=Europe/London:20260207T170000
DTSTAMP:20260424T213628
CREATED:20260117T115432Z
LAST-MODIFIED:20260117T115432Z
UID:23163-1770451200-1770483600@www.cotswoldelectricbiketours.co.uk
SUMMARY:Kingham
DESCRIPTION:
URL:https://www.cotswoldelectricbiketours.co.uk/date/kingham-745/
CATEGORIES:Kingham
END:VEVENT
BEGIN:VEVENT
DTSTART;TZID=Europe/London:20251220T100000
DTEND;TZID=Europe/London:20251220T170000
DTSTAMP:20260424T213628
CREATED:20251117T091723Z
LAST-MODIFIED:20251117T091723Z
UID:23067-1766224800-1766250000@www.cotswoldelectricbiketours.co.uk
SUMMARY:Kingham
DESCRIPTION:
URL:https://www.cotswoldelectricbiketours.co.uk/date/kingham-783/
CATEGORIES:Kingham
END:VEVENT
BEGIN:VEVENT
DTSTART;TZID=Europe/London:20251125T100000
DTEND;TZID=Europe/London:20251125T170000
DTSTAMP:20260424T213628
CREATED:20251008T083252Z
LAST-MODIFIED:20251008T083252Z
UID:22625-1764064800-1764090000@www.cotswoldelectricbiketours.co.uk
SUMMARY:Kingham
DESCRIPTION:
URL:https://www.cotswoldelectricbiketours.co.uk/date/kingham-684/
CATEGORIES:Kingham
END:VEVENT
BEGIN:VEVENT
DTSTART;TZID=Europe/London:20251114T100000
DTEND;TZID=Europe/London:20251114T170000
DTSTAMP:20260424T213628
CREATED:20251108T163222Z
LAST-MODIFIED:20251108T163222Z
UID:22698-1763114400-1763139600@www.cotswoldelectricbiketours.co.uk
SUMMARY:Kingham
DESCRIPTION:
URL:https://www.cotswoldelectricbiketours.co.uk/date/kingham-738/
CATEGORIES:Kingham
END:VEVENT
BEGIN:VEVENT
DTSTART;TZID=Europe/London:20251102T100000
DTEND;TZID=Europe/London:20251102T163000
DTSTAMP:20260424T213628
CREATED:20251011T171938Z
LAST-MODIFIED:20251011T171938Z
UID:22648-1762077600-1762101000@www.cotswoldelectricbiketours.co.uk
SUMMARY:Kingham
DESCRIPTION:
URL:https://www.cotswoldelectricbiketours.co.uk/date/kingham-735/
CATEGORIES:Kingham
END:VEVENT
END:VCALENDAR