BEGIN:VCALENDAR
VERSION:2.0
PRODID:-//Cotswold Electric Bike Tours - ECPv6.15.20//NONSGML v1.0//EN
CALSCALE:GREGORIAN
METHOD:PUBLISH
X-WR-CALNAME:Cotswold Electric Bike Tours
X-ORIGINAL-URL:https://www.cotswoldelectricbiketours.co.uk
X-WR-CALDESC:Events for Cotswold Electric Bike Tours
REFRESH-INTERVAL;VALUE=DURATION:PT1H
X-Robots-Tag:noindex
X-PUBLISHED-TTL:PT1H
BEGIN:VTIMEZONE
TZID:Europe/London
BEGIN:DAYLIGHT
TZOFFSETFROM:+0000
TZOFFSETTO:+0100
TZNAME:BST
DTSTART:20240331T010000
END:DAYLIGHT
BEGIN:STANDARD
TZOFFSETFROM:+0100
TZOFFSETTO:+0000
TZNAME:GMT
DTSTART:20241027T010000
END:STANDARD
BEGIN:DAYLIGHT
TZOFFSETFROM:+0000
TZOFFSETTO:+0100
TZNAME:BST
DTSTART:20250330T010000
END:DAYLIGHT
BEGIN:STANDARD
TZOFFSETFROM:+0100
TZOFFSETTO:+0000
TZNAME:GMT
DTSTART:20251026T010000
END:STANDARD
BEGIN:DAYLIGHT
TZOFFSETFROM:+0000
TZOFFSETTO:+0100
TZNAME:BST
DTSTART:20260329T010000
END:DAYLIGHT
BEGIN:STANDARD
TZOFFSETFROM:+0100
TZOFFSETTO:+0000
TZNAME:GMT
DTSTART:20261025T010000
END:STANDARD
END:VTIMEZONE
BEGIN:VEVENT
DTSTART;TZID=Europe/London:20250930T100000
DTEND;TZID=Europe/London:20250930T163000
DTSTAMP:20260424T172211
CREATED:20250919T173745Z
LAST-MODIFIED:20250919T173745Z
UID:22552-1759226400-1759249800@www.cotswoldelectricbiketours.co.uk
SUMMARY:Kingham
DESCRIPTION:
URL:https://www.cotswoldelectricbiketours.co.uk/date/kingham-731/
CATEGORIES:Kingham
END:VEVENT
BEGIN:VEVENT
DTSTART;TZID=Europe/London:20250927T100000
DTEND;TZID=Europe/London:20250927T160000
DTSTAMP:20260424T172211
CREATED:20250106T181948Z
LAST-MODIFIED:20250106T181948Z
UID:20222-1758967200-1758988800@www.cotswoldelectricbiketours.co.uk
SUMMARY:Burford
DESCRIPTION:
URL:https://www.cotswoldelectricbiketours.co.uk/date/burford-355/
CATEGORIES:Burford
END:VEVENT
BEGIN:VEVENT
DTSTART;TZID=Europe/London:20250926T100000
DTEND;TZID=Europe/London:20250926T163000
DTSTAMP:20260424T172211
CREATED:20250917T093059Z
LAST-MODIFIED:20250917T093059Z
UID:22532-1758880800-1758904200@www.cotswoldelectricbiketours.co.uk
SUMMARY:Kingham
DESCRIPTION:
URL:https://www.cotswoldelectricbiketours.co.uk/date/kingham-677/
CATEGORIES:Kingham
END:VEVENT
BEGIN:VEVENT
DTSTART;TZID=Europe/London:20250925T100000
DTEND;TZID=Europe/London:20250925T160000
DTSTAMP:20260424T172211
CREATED:20241119T123010Z
LAST-MODIFIED:20241119T123010Z
UID:19494-1758794400-1758816000@www.cotswoldelectricbiketours.co.uk
SUMMARY:Moreton-in-Marsh
DESCRIPTION:
URL:https://www.cotswoldelectricbiketours.co.uk/date/moreton-in-marsh-184/
CATEGORIES:Moreton-in-Marsh
END:VEVENT
BEGIN:VEVENT
DTSTART;TZID=Europe/London:20250924T080000
DTEND;TZID=Europe/London:20250924T170000
DTSTAMP:20260424T172211
CREATED:20250808T081701Z
LAST-MODIFIED:20250808T081701Z
UID:22330-1758700800-1758733200@www.cotswoldelectricbiketours.co.uk
SUMMARY:Kingham
DESCRIPTION:
URL:https://www.cotswoldelectricbiketours.co.uk/date/kingham-724/
CATEGORIES:Kingham
END:VEVENT
BEGIN:VEVENT
DTSTART;TZID=Europe/London:20250923T100000
DTEND;TZID=Europe/London:20250923T163000
DTSTAMP:20260424T172211
CREATED:20250502T102000Z
LAST-MODIFIED:20250502T102000Z
UID:21512-1758621600-1758645000@www.cotswoldelectricbiketours.co.uk
SUMMARY:Kingham
DESCRIPTION:
URL:https://www.cotswoldelectricbiketours.co.uk/date/kingham-680/
CATEGORIES:Kingham
END:VEVENT
BEGIN:VEVENT
DTSTART;TZID=Europe/London:20250922T100000
DTEND;TZID=Europe/London:20250922T160000
DTSTAMP:20260424T172211
CREATED:20241119T130430Z
LAST-MODIFIED:20241119T130430Z
UID:19539-1758535200-1758556800@www.cotswoldelectricbiketours.co.uk
SUMMARY:Burford
DESCRIPTION:
URL:https://www.cotswoldelectricbiketours.co.uk/date/burford-334/
CATEGORIES:Burford
END:VEVENT
BEGIN:VEVENT
DTSTART;TZID=Europe/London:20250922T090000
DTEND;TZID=Europe/London:20250922T170000
DTSTAMP:20260424T172211
CREATED:20250822T095909Z
LAST-MODIFIED:20250822T095909Z
UID:22415-1758531600-1758560400@www.cotswoldelectricbiketours.co.uk
SUMMARY:Kingham
DESCRIPTION:
URL:https://www.cotswoldelectricbiketours.co.uk/date/kingham-670/
CATEGORIES:Kingham
END:VEVENT
BEGIN:VEVENT
DTSTART;TZID=Europe/London:20250921T100000
DTEND;TZID=Europe/London:20250921T160000
DTSTAMP:20260424T172211
CREATED:20241117T110955Z
LAST-MODIFIED:20241117T110955Z
UID:19320-1758448800-1758470400@www.cotswoldelectricbiketours.co.uk
SUMMARY:Burford
DESCRIPTION:
URL:https://www.cotswoldelectricbiketours.co.uk/date/burford-323/
CATEGORIES:Burford
END:VEVENT
BEGIN:VEVENT
DTSTART;TZID=Europe/London:20250920T100000
DTEND;TZID=Europe/London:20250920T160000
DTSTAMP:20260424T172211
CREATED:20250106T181817Z
LAST-MODIFIED:20250106T181817Z
UID:20219-1758362400-1758384000@www.cotswoldelectricbiketours.co.uk
SUMMARY:Kingham
DESCRIPTION:
URL:https://www.cotswoldelectricbiketours.co.uk/date/kingham-687/
CATEGORIES:Kingham
END:VEVENT
BEGIN:VEVENT
DTSTART;TZID=Europe/London:20250919T100000
DTEND;TZID=Europe/London:20250919T163000
DTSTAMP:20260424T172211
CREATED:20250917T092727Z
LAST-MODIFIED:20250917T092727Z
UID:22529-1758276000-1758299400@www.cotswoldelectricbiketours.co.uk
SUMMARY:Kingham
DESCRIPTION:
URL:https://www.cotswoldelectricbiketours.co.uk/date/kingham-676/
CATEGORIES:Kingham
END:VEVENT
BEGIN:VEVENT
DTSTART;TZID=Europe/London:20250918T100000
DTEND;TZID=Europe/London:20250918T160000
DTSTAMP:20260424T172211
CREATED:20241119T122821Z
LAST-MODIFIED:20241119T122821Z
UID:19491-1758189600-1758211200@www.cotswoldelectricbiketours.co.uk
SUMMARY:Moreton-in-Marsh
DESCRIPTION:
URL:https://www.cotswoldelectricbiketours.co.uk/date/moreton-in-marsh-183/
CATEGORIES:Moreton-in-Marsh
END:VEVENT
BEGIN:VEVENT
DTSTART;TZID=Europe/London:20250915T100000
DTEND;TZID=Europe/London:20250915T160000
DTSTAMP:20260424T172211
CREATED:20241119T130011Z
LAST-MODIFIED:20241119T130011Z
UID:19533-1757930400-1757952000@www.cotswoldelectricbiketours.co.uk
SUMMARY:Burford
DESCRIPTION:
URL:https://www.cotswoldelectricbiketours.co.uk/date/burford-333/
CATEGORIES:Burford
END:VEVENT
BEGIN:VEVENT
DTSTART;TZID=Europe/London:20250914T100000
DTEND;TZID=Europe/London:20250914T160000
DTSTAMP:20260424T172211
CREATED:20250502T103448Z
LAST-MODIFIED:20250502T103448Z
UID:21516-1757844000-1757865600@www.cotswoldelectricbiketours.co.uk
SUMMARY:Kingham
DESCRIPTION:
URL:https://www.cotswoldelectricbiketours.co.uk/date/kingham-678/
CATEGORIES:Kingham
END:VEVENT
BEGIN:VEVENT
DTSTART;TZID=Europe/London:20250913T100000
DTEND;TZID=Europe/London:20250913T160000
DTSTAMP:20260424T172211
CREATED:20250106T181641Z
LAST-MODIFIED:20250106T181641Z
UID:20216-1757757600-1757779200@www.cotswoldelectricbiketours.co.uk
SUMMARY:Burford
DESCRIPTION:
URL:https://www.cotswoldelectricbiketours.co.uk/date/burford-354/
CATEGORIES:Burford
END:VEVENT
BEGIN:VEVENT
DTSTART;TZID=Europe/London:20250912T090000
DTEND;TZID=Europe/London:20250912T160000
DTSTAMP:20260424T172211
CREATED:20241119T120335Z
LAST-MODIFIED:20241119T120335Z
UID:19454-1757667600-1757692800@www.cotswoldelectricbiketours.co.uk
SUMMARY:Donnington Brewery Experience
DESCRIPTION:
URL:https://www.cotswoldelectricbiketours.co.uk/date/donnington-brewery-experience-24/
CATEGORIES:Donnington Brewery Experience
END:VEVENT
BEGIN:VEVENT
DTSTART;TZID=Europe/London:20250911T100000
DTEND;TZID=Europe/London:20250911T160000
DTSTAMP:20260424T172211
CREATED:20241119T122625Z
LAST-MODIFIED:20241119T122625Z
UID:19488-1757584800-1757606400@www.cotswoldelectricbiketours.co.uk
SUMMARY:Moreton-in-Marsh
DESCRIPTION:
URL:https://www.cotswoldelectricbiketours.co.uk/date/moreton-in-marsh-182/
CATEGORIES:Moreton-in-Marsh
END:VEVENT
BEGIN:VEVENT
DTSTART;TZID=Europe/London:20250910T100000
DTEND;TZID=Europe/London:20250910T160000
DTSTAMP:20260424T172211
CREATED:20250201T182518Z
LAST-MODIFIED:20250201T182518Z
UID:20463-1757498400-1757520000@www.cotswoldelectricbiketours.co.uk
SUMMARY:Burford
DESCRIPTION:
URL:https://www.cotswoldelectricbiketours.co.uk/date/burford-359/
CATEGORIES:Burford
END:VEVENT
BEGIN:VEVENT
DTSTART;TZID=Europe/London:20250909T100000
DTEND;TZID=Europe/London:20250909T170000
DTSTAMP:20260424T172211
CREATED:20250908T105756Z
LAST-MODIFIED:20250908T105756Z
UID:22505-1757412000-1757437200@www.cotswoldelectricbiketours.co.uk
SUMMARY:Burford
DESCRIPTION:
URL:https://www.cotswoldelectricbiketours.co.uk/date/burford-365/
CATEGORIES:Burford
END:VEVENT
BEGIN:VEVENT
DTSTART;TZID=Europe/London:20250908T140000
DTEND;TZID=Europe/London:20250908T180000
DTSTAMP:20260424T172211
CREATED:20250829T094231Z
LAST-MODIFIED:20250829T094231Z
UID:22462-1757340000-1757354400@www.cotswoldelectricbiketours.co.uk
SUMMARY:Kingham
DESCRIPTION:
URL:https://www.cotswoldelectricbiketours.co.uk/date/kingham-728/
CATEGORIES:Kingham
END:VEVENT
BEGIN:VEVENT
DTSTART;TZID=Europe/London:20250908T100000
DTEND;TZID=Europe/London:20250908T160000
DTSTAMP:20260424T172211
CREATED:20241119T125502Z
LAST-MODIFIED:20241119T125502Z
UID:19524-1757325600-1757347200@www.cotswoldelectricbiketours.co.uk
SUMMARY:Burford
DESCRIPTION:
URL:https://www.cotswoldelectricbiketours.co.uk/date/burford-332/
CATEGORIES:Burford
END:VEVENT
BEGIN:VEVENT
DTSTART;TZID=Europe/London:20250906T100000
DTEND;TZID=Europe/London:20250906T160000
DTSTAMP:20260424T172211
CREATED:20250106T181452Z
LAST-MODIFIED:20250106T181452Z
UID:20213-1757152800-1757174400@www.cotswoldelectricbiketours.co.uk
SUMMARY:Burford
DESCRIPTION:
URL:https://www.cotswoldelectricbiketours.co.uk/date/burford-353/
CATEGORIES:Burford
END:VEVENT
BEGIN:VEVENT
DTSTART;TZID=Europe/London:20250904T100000
DTEND;TZID=Europe/London:20250904T170000
DTSTAMP:20260424T172211
CREATED:20250731T185331Z
LAST-MODIFIED:20250731T185331Z
UID:22262-1756980000-1757005200@www.cotswoldelectricbiketours.co.uk
SUMMARY:Burford
DESCRIPTION:
URL:https://www.cotswoldelectricbiketours.co.uk/date/burford-363/
CATEGORIES:Burford
END:VEVENT
BEGIN:VEVENT
DTSTART;TZID=Europe/London:20250903T100000
DTEND;TZID=Europe/London:20250903T160000
DTSTAMP:20260424T172211
CREATED:20250321T132730Z
LAST-MODIFIED:20250321T132730Z
UID:21051-1756893600-1756915200@www.cotswoldelectricbiketours.co.uk
SUMMARY:Moreton-in-Marsh
DESCRIPTION:
URL:https://www.cotswoldelectricbiketours.co.uk/date/moreton-in-marsh-181/
CATEGORIES:Moreton-in-Marsh
END:VEVENT
BEGIN:VEVENT
DTSTART;TZID=Europe/London:20250902T090000
DTEND;TZID=Europe/London:20250902T130000
DTSTAMP:20260424T172211
CREATED:20250613T103134Z
LAST-MODIFIED:20250613T103134Z
UID:21882-1756803600-1756818000@www.cotswoldelectricbiketours.co.uk
SUMMARY:Broadway
DESCRIPTION:
URL:https://www.cotswoldelectricbiketours.co.uk/date/broadway-70/
CATEGORIES:Broadway
END:VEVENT
BEGIN:VEVENT
DTSTART;TZID=Europe/London:20250901T100000
DTEND;TZID=Europe/London:20250901T160000
DTSTAMP:20260424T172211
CREATED:20241119T124908Z
LAST-MODIFIED:20241119T124908Z
UID:19515-1756720800-1756742400@www.cotswoldelectricbiketours.co.uk
SUMMARY:Burford
DESCRIPTION:
URL:https://www.cotswoldelectricbiketours.co.uk/date/burford-331/
CATEGORIES:Burford
END:VEVENT
BEGIN:VEVENT
DTSTART;TZID=Europe/London:20250830T100000
DTEND;TZID=Europe/London:20250830T160000
DTSTAMP:20260424T172211
CREATED:20250106T181312Z
LAST-MODIFIED:20250106T181312Z
UID:20210-1756548000-1756569600@www.cotswoldelectricbiketours.co.uk
SUMMARY:Burford
DESCRIPTION:
URL:https://www.cotswoldelectricbiketours.co.uk/date/burford-352/
CATEGORIES:Burford
END:VEVENT
BEGIN:VEVENT
DTSTART;TZID=Europe/London:20250829T090000
DTEND;TZID=Europe/London:20250829T160000
DTSTAMP:20260424T172211
CREATED:20241119T115932Z
LAST-MODIFIED:20241119T115932Z
UID:19448-1756458000-1756483200@www.cotswoldelectricbiketours.co.uk
SUMMARY:Donnington Brewery Experience
DESCRIPTION:
URL:https://www.cotswoldelectricbiketours.co.uk/date/donnington-brewery-experience-22/
CATEGORIES:Donnington Brewery Experience
END:VEVENT
BEGIN:VEVENT
DTSTART;TZID=Europe/London:20250828T100000
DTEND;TZID=Europe/London:20250828T160000
DTSTAMP:20260424T172211
CREATED:20241119T122216Z
LAST-MODIFIED:20241119T122216Z
UID:19482-1756375200-1756396800@www.cotswoldelectricbiketours.co.uk
SUMMARY:Moreton-in-Marsh
DESCRIPTION:
URL:https://www.cotswoldelectricbiketours.co.uk/date/moreton-in-marsh-180/
CATEGORIES:Moreton-in-Marsh
END:VEVENT
BEGIN:VEVENT
DTSTART;TZID=Europe/London:20250828T090000
DTEND;TZID=Europe/London:20250828T170000
DTSTAMP:20260424T172211
CREATED:20250825T193455Z
LAST-MODIFIED:20250825T193455Z
UID:22439-1756371600-1756400400@www.cotswoldelectricbiketours.co.uk
SUMMARY:Kingham
DESCRIPTION:
URL:https://www.cotswoldelectricbiketours.co.uk/date/kingham-725/
CATEGORIES:Kingham
END:VEVENT
END:VCALENDAR