BEGIN:VCALENDAR
VERSION:2.0
PRODID:-//Cotswold Electric Bike Tours - ECPv6.15.20//NONSGML v1.0//EN
CALSCALE:GREGORIAN
METHOD:PUBLISH
X-WR-CALNAME:Cotswold Electric Bike Tours
X-ORIGINAL-URL:https://www.cotswoldelectricbiketours.co.uk
X-WR-CALDESC:Events for Cotswold Electric Bike Tours
REFRESH-INTERVAL;VALUE=DURATION:PT1H
X-Robots-Tag:noindex
X-PUBLISHED-TTL:PT1H
BEGIN:VTIMEZONE
TZID:Europe/London
BEGIN:DAYLIGHT
TZOFFSETFROM:+0000
TZOFFSETTO:+0100
TZNAME:BST
DTSTART:20240331T010000
END:DAYLIGHT
BEGIN:STANDARD
TZOFFSETFROM:+0100
TZOFFSETTO:+0000
TZNAME:GMT
DTSTART:20241027T010000
END:STANDARD
BEGIN:DAYLIGHT
TZOFFSETFROM:+0000
TZOFFSETTO:+0100
TZNAME:BST
DTSTART:20250330T010000
END:DAYLIGHT
BEGIN:STANDARD
TZOFFSETFROM:+0100
TZOFFSETTO:+0000
TZNAME:GMT
DTSTART:20251026T010000
END:STANDARD
BEGIN:DAYLIGHT
TZOFFSETFROM:+0000
TZOFFSETTO:+0100
TZNAME:BST
DTSTART:20260329T010000
END:DAYLIGHT
BEGIN:STANDARD
TZOFFSETFROM:+0100
TZOFFSETTO:+0000
TZNAME:GMT
DTSTART:20261025T010000
END:STANDARD
END:VTIMEZONE
BEGIN:VEVENT
DTSTART;TZID=Europe/London:20250414T100000
DTEND;TZID=Europe/London:20250414T170000
DTSTAMP:20260424T105453
CREATED:20250411T094553Z
LAST-MODIFIED:20250411T094553Z
UID:21277-1744624800-1744650000@www.cotswoldelectricbiketours.co.uk
SUMMARY:Kingham
DESCRIPTION:
URL:https://www.cotswoldelectricbiketours.co.uk/date/kingham-702/
CATEGORIES:Kingham
END:VEVENT
BEGIN:VEVENT
DTSTART;TZID=Europe/London:20250415T100000
DTEND;TZID=Europe/London:20250415T160000
DTSTAMP:20260424T105453
CREATED:20250119T153322Z
LAST-MODIFIED:20250119T153322Z
UID:20357-1744711200-1744732800@www.cotswoldelectricbiketours.co.uk
SUMMARY:Kingham
DESCRIPTION:
URL:https://www.cotswoldelectricbiketours.co.uk/date/kingham-693/
CATEGORIES:Kingham
END:VEVENT
BEGIN:VEVENT
DTSTART;TZID=Europe/London:20250416T100000
DTEND;TZID=Europe/London:20250416T163000
DTSTAMP:20260424T105453
CREATED:20250409T082123Z
LAST-MODIFIED:20250409T082123Z
UID:21253-1744797600-1744821000@www.cotswoldelectricbiketours.co.uk
SUMMARY:Kingham
DESCRIPTION:
URL:https://www.cotswoldelectricbiketours.co.uk/date/kingham-700/
CATEGORIES:Kingham
END:VEVENT
BEGIN:VEVENT
DTSTART;TZID=Europe/London:20250416T100000
DTEND;TZID=Europe/London:20250416T170000
DTSTAMP:20260424T105453
CREATED:20250412T173111Z
LAST-MODIFIED:20250412T173111Z
UID:21295-1744797600-1744822800@www.cotswoldelectricbiketours.co.uk
SUMMARY:Bourton-on-the-Water
DESCRIPTION:
URL:https://www.cotswoldelectricbiketours.co.uk/date/bourton-on-the-water-49/
CATEGORIES:Bourton-on-the-Water
END:VEVENT
BEGIN:VEVENT
DTSTART;TZID=Europe/London:20250418T100000
DTEND;TZID=Europe/London:20250418T160000
DTSTAMP:20260424T105453
CREATED:20250416T082037Z
LAST-MODIFIED:20250416T082037Z
UID:21350-1744970400-1744992000@www.cotswoldelectricbiketours.co.uk
SUMMARY:Kingham
DESCRIPTION:
URL:https://www.cotswoldelectricbiketours.co.uk/date/kingham-662/
CATEGORIES:Kingham
END:VEVENT
BEGIN:VEVENT
DTSTART;TZID=Europe/London:20250419T120000
DTEND;TZID=Europe/London:20250419T163000
DTSTAMP:20260424T105453
CREATED:20250414T162612Z
LAST-MODIFIED:20250414T162612Z
UID:21327-1745064000-1745080200@www.cotswoldelectricbiketours.co.uk
SUMMARY:Kingham
DESCRIPTION:
URL:https://www.cotswoldelectricbiketours.co.uk/date/kingham-704/
CATEGORIES:Kingham
END:VEVENT
BEGIN:VEVENT
DTSTART;TZID=Europe/London:20250420T100000
DTEND;TZID=Europe/London:20250420T160000
DTSTAMP:20260424T105453
CREATED:20250119T152816Z
LAST-MODIFIED:20250119T152816Z
UID:20354-1745143200-1745164800@www.cotswoldelectricbiketours.co.uk
SUMMARY:Kingham
DESCRIPTION:
URL:https://www.cotswoldelectricbiketours.co.uk/date/kingham-692/
CATEGORIES:Kingham
END:VEVENT
BEGIN:VEVENT
DTSTART;TZID=Europe/London:20250421T100000
DTEND;TZID=Europe/London:20250421T160000
DTSTAMP:20260424T105453
CREATED:20250119T152553Z
LAST-MODIFIED:20250119T152553Z
UID:20351-1745229600-1745251200@www.cotswoldelectricbiketours.co.uk
SUMMARY:Burford
DESCRIPTION:
URL:https://www.cotswoldelectricbiketours.co.uk/date/burford-356/
CATEGORIES:Burford
END:VEVENT
BEGIN:VEVENT
DTSTART;TZID=Europe/London:20250421T100000
DTEND;TZID=Europe/London:20250421T170000
DTSTAMP:20260424T105453
CREATED:20250412T172544Z
LAST-MODIFIED:20250412T172544Z
UID:21292-1745229600-1745254800@www.cotswoldelectricbiketours.co.uk
SUMMARY:Kingham
DESCRIPTION:
URL:https://www.cotswoldelectricbiketours.co.uk/date/kingham-703/
CATEGORIES:Kingham
END:VEVENT
BEGIN:VEVENT
DTSTART;TZID=Europe/London:20250421T100000
DTEND;TZID=Europe/London:20250421T170000
DTSTAMP:20260424T105453
CREATED:20250418T165605Z
LAST-MODIFIED:20250418T165605Z
UID:21376-1745229600-1745254800@www.cotswoldelectricbiketours.co.uk
SUMMARY:Kingham
DESCRIPTION:
URL:https://www.cotswoldelectricbiketours.co.uk/date/kingham-705/
CATEGORIES:Kingham
END:VEVENT
BEGIN:VEVENT
DTSTART;TZID=Europe/London:20250422T100000
DTEND;TZID=Europe/London:20250422T160000
DTSTAMP:20260424T105453
CREATED:20250110T104927Z
LAST-MODIFIED:20250110T105012Z
UID:20258-1745316000-1745337600@www.cotswoldelectricbiketours.co.uk
SUMMARY:Kingham
DESCRIPTION:
URL:https://www.cotswoldelectricbiketours.co.uk/date/kingham-689/
CATEGORIES:Moreton-in-Marsh
END:VEVENT
BEGIN:VEVENT
DTSTART;TZID=Europe/London:20250423T100000
DTEND;TZID=Europe/London:20250423T170000
DTSTAMP:20260424T105453
CREATED:20250420T081025Z
LAST-MODIFIED:20250420T081025Z
UID:21394-1745402400-1745427600@www.cotswoldelectricbiketours.co.uk
SUMMARY:Kingham
DESCRIPTION:
URL:https://www.cotswoldelectricbiketours.co.uk/date/kingham-706/
CATEGORIES:Kingham
END:VEVENT
BEGIN:VEVENT
DTSTART;TZID=Europe/London:20250424T100000
DTEND;TZID=Europe/London:20250424T160000
DTSTAMP:20260424T105453
CREATED:20250110T104712Z
LAST-MODIFIED:20250110T104750Z
UID:20255-1745488800-1745510400@www.cotswoldelectricbiketours.co.uk
SUMMARY:Moreton-in-Marsh
DESCRIPTION:
URL:https://www.cotswoldelectricbiketours.co.uk/date/moreton-in-marsh-187/
CATEGORIES:Moreton-in-Marsh
END:VEVENT
BEGIN:VEVENT
DTSTART;TZID=Europe/London:20250425T090000
DTEND;TZID=Europe/London:20250425T160000
DTSTAMP:20260424T105453
CREATED:20250110T104504Z
LAST-MODIFIED:20250110T104504Z
UID:20252-1745571600-1745596800@www.cotswoldelectricbiketours.co.uk
SUMMARY:Donnington Brewery Experience
DESCRIPTION:
URL:https://www.cotswoldelectricbiketours.co.uk/date/donnington-brewery-experience-11/
CATEGORIES:Donnington Brewery Experience
END:VEVENT
BEGIN:VEVENT
DTSTART;TZID=Europe/London:20250426T100000
DTEND;TZID=Europe/London:20250426T160000
DTSTAMP:20260424T105453
CREATED:20250110T104301Z
LAST-MODIFIED:20250110T104301Z
UID:20249-1745661600-1745683200@www.cotswoldelectricbiketours.co.uk
SUMMARY:Burford
DESCRIPTION:
URL:https://www.cotswoldelectricbiketours.co.uk/date/burford-338/
CATEGORIES:Burford
END:VEVENT
BEGIN:VEVENT
DTSTART;TZID=Europe/London:20250428T093000
DTEND;TZID=Europe/London:20250428T163000
DTSTAMP:20260424T105453
CREATED:20250423T122235Z
LAST-MODIFIED:20250423T122235Z
UID:21430-1745832600-1745857800@www.cotswoldelectricbiketours.co.uk
SUMMARY:Kingham
DESCRIPTION:
URL:https://www.cotswoldelectricbiketours.co.uk/date/kingham-707/
CATEGORIES:Kingham
END:VEVENT
BEGIN:VEVENT
DTSTART;TZID=Europe/London:20250428T100000
DTEND;TZID=Europe/London:20250428T160000
DTSTAMP:20260424T105453
CREATED:20250110T105248Z
LAST-MODIFIED:20250110T105248Z
UID:20261-1745834400-1745856000@www.cotswoldelectricbiketours.co.uk
SUMMARY:Burford
DESCRIPTION:
URL:https://www.cotswoldelectricbiketours.co.uk/date/burford-339/
CATEGORIES:Burford
END:VEVENT
BEGIN:VEVENT
DTSTART;TZID=Europe/London:20250429T100000
DTEND;TZID=Europe/London:20250429T160000
DTSTAMP:20260424T105453
CREATED:20250110T105942Z
LAST-MODIFIED:20250110T105942Z
UID:20268-1745920800-1745942400@www.cotswoldelectricbiketours.co.uk
SUMMARY:Kingham
DESCRIPTION:
URL:https://www.cotswoldelectricbiketours.co.uk/date/kingham-690/
CATEGORIES:Kingham
END:VEVENT
BEGIN:VEVENT
DTSTART;TZID=Europe/London:20250430T100000
DTEND;TZID=Europe/London:20250430T170000
DTSTAMP:20260424T105453
CREATED:20250427T170723Z
LAST-MODIFIED:20250427T170723Z
UID:21482-1746007200-1746032400@www.cotswoldelectricbiketours.co.uk
SUMMARY:Burford
DESCRIPTION:
URL:https://www.cotswoldelectricbiketours.co.uk/date/burford-361/
CATEGORIES:Burford
END:VEVENT
BEGIN:VEVENT
DTSTART;TZID=Europe/London:20250430T120000
DTEND;TZID=Europe/London:20250430T170000
DTSTAMP:20260424T105453
CREATED:20250426T122913Z
LAST-MODIFIED:20250426T122913Z
UID:21471-1746014400-1746032400@www.cotswoldelectricbiketours.co.uk
SUMMARY:Kingham
DESCRIPTION:
URL:https://www.cotswoldelectricbiketours.co.uk/date/kingham-688/
CATEGORIES:Kingham
END:VEVENT
BEGIN:VEVENT
DTSTART;TZID=Europe/London:20250501T100000
DTEND;TZID=Europe/London:20250501T160000
DTSTAMP:20260424T105453
CREATED:20250414T130942Z
LAST-MODIFIED:20250414T130942Z
UID:21317-1746093600-1746115200@www.cotswoldelectricbiketours.co.uk
SUMMARY:Chipping Campden
DESCRIPTION:
URL:https://www.cotswoldelectricbiketours.co.uk/date/chipping-campden-88/
CATEGORIES:Chipping Campden
END:VEVENT
BEGIN:VEVENT
DTSTART;TZID=Europe/London:20250502T090000
DTEND;TZID=Europe/London:20250502T160000
DTSTAMP:20260424T105453
CREATED:20241112T172247Z
LAST-MODIFIED:20241118T124840Z
UID:19193-1746176400-1746201600@www.cotswoldelectricbiketours.co.uk
SUMMARY:Donnington Brewery Experience
DESCRIPTION:
URL:https://www.cotswoldelectricbiketours.co.uk/date/donnington-brewery-experience-10/
CATEGORIES:Donnington Brewery Experience
END:VEVENT
BEGIN:VEVENT
DTSTART;TZID=Europe/London:20250503T100000
DTEND;TZID=Europe/London:20250503T160000
DTSTAMP:20260424T105453
CREATED:20250106T175034Z
LAST-MODIFIED:20250106T175034Z
UID:20171-1746266400-1746288000@www.cotswoldelectricbiketours.co.uk
SUMMARY:Burford
DESCRIPTION:
URL:https://www.cotswoldelectricbiketours.co.uk/date/burford-340/
CATEGORIES:Burford
END:VEVENT
BEGIN:VEVENT
DTSTART;TZID=Europe/London:20250504T100000
DTEND;TZID=Europe/London:20250504T160000
DTSTAMP:20260424T105453
CREATED:20241112T165200Z
LAST-MODIFIED:20241112T165200Z
UID:19151-1746352800-1746374400@www.cotswoldelectricbiketours.co.uk
SUMMARY:Kingham
DESCRIPTION:
URL:https://www.cotswoldelectricbiketours.co.uk/date/kingham-648/
CATEGORIES:Kingham
END:VEVENT
BEGIN:VEVENT
DTSTART;TZID=Europe/London:20250505T100000
DTEND;TZID=Europe/London:20250505T163000
DTSTAMP:20260424T105453
CREATED:20250410T075546Z
LAST-MODIFIED:20250410T075546Z
UID:21272-1746439200-1746462600@www.cotswoldelectricbiketours.co.uk
SUMMARY:Kingham
DESCRIPTION:
URL:https://www.cotswoldelectricbiketours.co.uk/date/kingham-699/
CATEGORIES:Kingham
END:VEVENT
BEGIN:VEVENT
DTSTART;TZID=Europe/London:20250506T100000
DTEND;TZID=Europe/London:20250506T160000
DTSTAMP:20260424T105453
CREATED:20241109T141401Z
LAST-MODIFIED:20241109T141401Z
UID:19108-1746525600-1746547200@www.cotswoldelectricbiketours.co.uk
SUMMARY:Kingham
DESCRIPTION:
URL:https://www.cotswoldelectricbiketours.co.uk/date/kingham-647/
CATEGORIES:Kingham
END:VEVENT
BEGIN:VEVENT
DTSTART;TZID=Europe/London:20250507T100000
DTEND;TZID=Europe/London:20250507T160000
DTSTAMP:20260424T105453
CREATED:20250129T103127Z
LAST-MODIFIED:20250129T103127Z
UID:20437-1746612000-1746633600@www.cotswoldelectricbiketours.co.uk
SUMMARY:Burford
DESCRIPTION:
URL:https://www.cotswoldelectricbiketours.co.uk/date/burford-315/
CATEGORIES:Burford
END:VEVENT
BEGIN:VEVENT
DTSTART;TZID=Europe/London:20250508T120000
DTEND;TZID=Europe/London:20250508T160000
DTSTAMP:20260424T105453
CREATED:20250324T221328Z
LAST-MODIFIED:20250324T221328Z
UID:21094-1746705600-1746720000@www.cotswoldelectricbiketours.co.uk
SUMMARY:Moreton-in-Marsh
DESCRIPTION:
URL:https://www.cotswoldelectricbiketours.co.uk/date/moreton-in-marsh-159/
CATEGORIES:Moreton-in-Marsh
END:VEVENT
BEGIN:VEVENT
DTSTART;TZID=Europe/London:20250509T093000
DTEND;TZID=Europe/London:20250509T160000
DTSTAMP:20260424T105453
CREATED:20241112T172027Z
LAST-MODIFIED:20241112T172027Z
UID:19190-1746783000-1746806400@www.cotswoldelectricbiketours.co.uk
SUMMARY:Donnington Brewery Experience
DESCRIPTION:
URL:https://www.cotswoldelectricbiketours.co.uk/date/donnington-brewery-experience-9/
CATEGORIES:Donnington Brewery Experience
END:VEVENT
BEGIN:VEVENT
DTSTART;TZID=Europe/London:20250510T080000
DTEND;TZID=Europe/London:20250510T170000
DTSTAMP:20260424T105453
CREATED:20250508T090228Z
LAST-MODIFIED:20250508T090228Z
UID:21539-1746864000-1746896400@www.cotswoldelectricbiketours.co.uk
SUMMARY:KIngham
DESCRIPTION:
URL:https://www.cotswoldelectricbiketours.co.uk/date/kingham-709/
CATEGORIES:Kingham
END:VEVENT
END:VCALENDAR