BEGIN:VCALENDAR
VERSION:2.0
PRODID:-//Cotswold Electric Bike Tours - ECPv6.15.20//NONSGML v1.0//EN
CALSCALE:GREGORIAN
METHOD:PUBLISH
X-ORIGINAL-URL:https://www.cotswoldelectricbiketours.co.uk
X-WR-CALDESC:Events for Cotswold Electric Bike Tours
REFRESH-INTERVAL;VALUE=DURATION:PT1H
X-Robots-Tag:noindex
X-PUBLISHED-TTL:PT1H
BEGIN:VTIMEZONE
TZID:Europe/London
BEGIN:DAYLIGHT
TZOFFSETFROM:+0000
TZOFFSETTO:+0100
TZNAME:BST
DTSTART:20250330T010000
END:DAYLIGHT
BEGIN:STANDARD
TZOFFSETFROM:+0100
TZOFFSETTO:+0000
TZNAME:GMT
DTSTART:20251026T010000
END:STANDARD
BEGIN:DAYLIGHT
TZOFFSETFROM:+0000
TZOFFSETTO:+0100
TZNAME:BST
DTSTART:20260329T010000
END:DAYLIGHT
BEGIN:STANDARD
TZOFFSETFROM:+0100
TZOFFSETTO:+0000
TZNAME:GMT
DTSTART:20261025T010000
END:STANDARD
BEGIN:DAYLIGHT
TZOFFSETFROM:+0000
TZOFFSETTO:+0100
TZNAME:BST
DTSTART:20270328T010000
END:DAYLIGHT
BEGIN:STANDARD
TZOFFSETFROM:+0100
TZOFFSETTO:+0000
TZNAME:GMT
DTSTART:20271031T010000
END:STANDARD
END:VTIMEZONE
BEGIN:VEVENT
DTSTART;TZID=Europe/London:20260702T100000
DTEND;TZID=Europe/London:20260702T160000
DTSTAMP:20260424T135225
CREATED:20251108T184352Z
LAST-MODIFIED:20251108T184352Z
UID:22830-1782986400-1783008000@www.cotswoldelectricbiketours.co.uk
SUMMARY:Moreton-in-Marsh
DESCRIPTION:
URL:https://www.cotswoldelectricbiketours.co.uk/date/moreton-in-marsh-197/
CATEGORIES:Moreton-in-Marsh
END:VEVENT
BEGIN:VEVENT
DTSTART;TZID=Europe/London:20260705T100000
DTEND;TZID=Europe/London:20260705T163000
DTSTAMP:20260424T135225
CREATED:20251105T103732Z
LAST-MODIFIED:20251105T103732Z
UID:22682-1783245600-1783269000@www.cotswoldelectricbiketours.co.uk
SUMMARY:Kingham
DESCRIPTION:
URL:https://www.cotswoldelectricbiketours.co.uk/date/kingham-737/
CATEGORIES:Kingham
END:VEVENT
BEGIN:VEVENT
DTSTART;TZID=Europe/London:20260706T100000
DTEND;TZID=Europe/London:20260706T163000
DTSTAMP:20260424T135225
CREATED:20251108T184857Z
LAST-MODIFIED:20251108T184857Z
UID:22836-1783332000-1783355400@www.cotswoldelectricbiketours.co.uk
SUMMARY:Burford
DESCRIPTION:
URL:https://www.cotswoldelectricbiketours.co.uk/date/burford-384/
CATEGORIES:Burford
END:VEVENT
BEGIN:VEVENT
DTSTART;TZID=Europe/London:20260707T103000
DTEND;TZID=Europe/London:20260707T150000
DTSTAMP:20260424T135225
CREATED:20260119T101514Z
LAST-MODIFIED:20260119T101514Z
UID:23197-1783420200-1783436400@www.cotswoldelectricbiketours.co.uk
SUMMARY:Moreton-in-Marsh
DESCRIPTION:
URL:https://www.cotswoldelectricbiketours.co.uk/date/moreton-in-marsh-213/
CATEGORIES:Moreton-in-Marsh
END:VEVENT
BEGIN:VEVENT
DTSTART;TZID=Europe/London:20260708T090000
DTEND;TZID=Europe/London:20260708T160000
DTSTAMP:20260424T135225
CREATED:20260422T095307Z
LAST-MODIFIED:20260422T095307Z
UID:23672-1783501200-1783526400@www.cotswoldelectricbiketours.co.uk
SUMMARY:Kingham
DESCRIPTION:
URL:https://www.cotswoldelectricbiketours.co.uk/date/kingham-747/
CATEGORIES:Kingham
END:VEVENT
BEGIN:VEVENT
DTSTART;TZID=Europe/London:20260709T100000
DTEND;TZID=Europe/London:20260709T160000
DTSTAMP:20260424T135225
CREATED:20251108T185255Z
LAST-MODIFIED:20251108T185255Z
UID:22842-1783591200-1783612800@www.cotswoldelectricbiketours.co.uk
SUMMARY:Moreton-in-Marsh
DESCRIPTION:
URL:https://www.cotswoldelectricbiketours.co.uk/date/moreton-in-marsh-198/
CATEGORIES:Moreton-in-Marsh
END:VEVENT
BEGIN:VEVENT
DTSTART;TZID=Europe/London:20260710T100000
DTEND;TZID=Europe/London:20260710T170000
DTSTAMP:20260424T135225
CREATED:20251108T185527Z
LAST-MODIFIED:20251108T185527Z
UID:22845-1783677600-1783702800@www.cotswoldelectricbiketours.co.uk
SUMMARY:Donnington Brewery Experience
DESCRIPTION:
URL:https://www.cotswoldelectricbiketours.co.uk/date/donnington-brewery-experience-16/
CATEGORIES:Donnington Brewery Experience
END:VEVENT
BEGIN:VEVENT
DTSTART;TZID=Europe/London:20260711T100000
DTEND;TZID=Europe/London:20260711T163000
DTSTAMP:20260424T135225
CREATED:20251108T185802Z
LAST-MODIFIED:20251108T185802Z
UID:22848-1783764000-1783787400@www.cotswoldelectricbiketours.co.uk
SUMMARY:Burford
DESCRIPTION:
URL:https://www.cotswoldelectricbiketours.co.uk/date/burford-385/
END:VEVENT
BEGIN:VEVENT
DTSTART;TZID=Europe/London:20260713T100000
DTEND;TZID=Europe/London:20260713T163000
DTSTAMP:20260424T135225
CREATED:20251108T190024Z
LAST-MODIFIED:20251108T190024Z
UID:22851-1783936800-1783960200@www.cotswoldelectricbiketours.co.uk
SUMMARY:Burford
DESCRIPTION:
URL:https://www.cotswoldelectricbiketours.co.uk/date/burford-386/
CATEGORIES:Burford
END:VEVENT
BEGIN:VEVENT
DTSTART;TZID=Europe/London:20260714T100000
DTEND;TZID=Europe/London:20260714T163000
DTSTAMP:20260424T135225
CREATED:20251108T190213Z
LAST-MODIFIED:20251108T190213Z
UID:22854-1784023200-1784046600@www.cotswoldelectricbiketours.co.uk
SUMMARY:Kingham
DESCRIPTION:
URL:https://www.cotswoldelectricbiketours.co.uk/date/kingham-757/
CATEGORIES:Kingham
END:VEVENT
BEGIN:VEVENT
DTSTART;TZID=Europe/London:20260716T100000
DTEND;TZID=Europe/London:20260716T160000
DTSTAMP:20260424T135225
CREATED:20251109T142351Z
LAST-MODIFIED:20251109T142351Z
UID:22859-1784196000-1784217600@www.cotswoldelectricbiketours.co.uk
SUMMARY:Moreton-in-Marsh
DESCRIPTION:
URL:https://www.cotswoldelectricbiketours.co.uk/date/moreton-in-marsh-199/
CATEGORIES:Moreton-in-Marsh
END:VEVENT
BEGIN:VEVENT
DTSTART;TZID=Europe/London:20260717T100000
DTEND;TZID=Europe/London:20260717T163000
DTSTAMP:20260424T135225
CREATED:20260329T094119Z
LAST-MODIFIED:20260329T094119Z
UID:23513-1784282400-1784305800@www.cotswoldelectricbiketours.co.uk
SUMMARY:Kingham
DESCRIPTION:
URL:https://www.cotswoldelectricbiketours.co.uk/date/kingham-758/
CATEGORIES:Kingham
END:VEVENT
BEGIN:VEVENT
DTSTART;TZID=Europe/London:20260718T100000
DTEND;TZID=Europe/London:20260718T163000
DTSTAMP:20260424T135225
CREATED:20251109T142757Z
LAST-MODIFIED:20251109T142757Z
UID:22864-1784368800-1784392200@www.cotswoldelectricbiketours.co.uk
SUMMARY:Burford
DESCRIPTION:
URL:https://www.cotswoldelectricbiketours.co.uk/date/burford-387/
CATEGORIES:Burford
END:VEVENT
BEGIN:VEVENT
DTSTART;TZID=Europe/London:20260719T100000
DTEND;TZID=Europe/London:20260719T163000
DTSTAMP:20260424T135225
CREATED:20251109T143128Z
LAST-MODIFIED:20251109T143128Z
UID:22867-1784455200-1784478600@www.cotswoldelectricbiketours.co.uk
SUMMARY:Kingham
DESCRIPTION:
URL:https://www.cotswoldelectricbiketours.co.uk/date/kingham-759/
CATEGORIES:Burford,Kingham
END:VEVENT
BEGIN:VEVENT
DTSTART;TZID=Europe/London:20260720T100000
DTEND;TZID=Europe/London:20260720T163000
DTSTAMP:20260424T135225
CREATED:20251109T143340Z
LAST-MODIFIED:20251109T143340Z
UID:22870-1784541600-1784565000@www.cotswoldelectricbiketours.co.uk
SUMMARY:Burford
DESCRIPTION:
URL:https://www.cotswoldelectricbiketours.co.uk/date/burford-388/
CATEGORIES:Burford
END:VEVENT
BEGIN:VEVENT
DTSTART;TZID=Europe/London:20260721T100000
DTEND;TZID=Europe/London:20260721T163000
DTSTAMP:20260424T135225
CREATED:20251109T144029Z
LAST-MODIFIED:20251109T144029Z
UID:22873-1784628000-1784651400@www.cotswoldelectricbiketours.co.uk
SUMMARY:Kingham
DESCRIPTION:
URL:https://www.cotswoldelectricbiketours.co.uk/date/kingham-760/
CATEGORIES:Kingham
END:VEVENT
BEGIN:VEVENT
DTSTART;TZID=Europe/London:20260723T100000
DTEND;TZID=Europe/London:20260723T160000
DTSTAMP:20260424T135225
CREATED:20251109T144231Z
LAST-MODIFIED:20251109T144231Z
UID:22876-1784800800-1784822400@www.cotswoldelectricbiketours.co.uk
SUMMARY:Moreton-in-Marsh
DESCRIPTION:
URL:https://www.cotswoldelectricbiketours.co.uk/date/moreton-in-marsh-200/
CATEGORIES:Moreton-in-Marsh
END:VEVENT
BEGIN:VEVENT
DTSTART;TZID=Europe/London:20260724T100000
DTEND;TZID=Europe/London:20260724T170000
DTSTAMP:20260424T135225
CREATED:20251109T144523Z
LAST-MODIFIED:20251109T144523Z
UID:22879-1784887200-1784912400@www.cotswoldelectricbiketours.co.uk
SUMMARY:Donnington Brewery Experience
DESCRIPTION:
URL:https://www.cotswoldelectricbiketours.co.uk/date/donnington-brewery-experience-17/
CATEGORIES:Donnington Brewery Experience
END:VEVENT
BEGIN:VEVENT
DTSTART;TZID=Europe/London:20260725T100000
DTEND;TZID=Europe/London:20260725T163000
DTSTAMP:20260424T135225
CREATED:20251109T144725Z
LAST-MODIFIED:20251109T144725Z
UID:22882-1784973600-1784997000@www.cotswoldelectricbiketours.co.uk
SUMMARY:Kingham
DESCRIPTION:
URL:https://www.cotswoldelectricbiketours.co.uk/date/kingham-761/
CATEGORIES:Kingham
END:VEVENT
BEGIN:VEVENT
DTSTART;TZID=Europe/London:20260726T100000
DTEND;TZID=Europe/London:20260726T163000
DTSTAMP:20260424T135225
CREATED:20251109T144934Z
LAST-MODIFIED:20251109T144934Z
UID:22885-1785060000-1785083400@www.cotswoldelectricbiketours.co.uk
SUMMARY:Burford
DESCRIPTION:
URL:https://www.cotswoldelectricbiketours.co.uk/date/burford-389/
CATEGORIES:Burford
END:VEVENT
BEGIN:VEVENT
DTSTART;TZID=Europe/London:20260727T100000
DTEND;TZID=Europe/London:20260727T163000
DTSTAMP:20260424T135225
CREATED:20251109T145123Z
LAST-MODIFIED:20251109T145123Z
UID:22888-1785146400-1785169800@www.cotswoldelectricbiketours.co.uk
SUMMARY:Burford
DESCRIPTION:
URL:https://www.cotswoldelectricbiketours.co.uk/date/burford-390/
CATEGORIES:Burford
END:VEVENT
BEGIN:VEVENT
DTSTART;TZID=Europe/London:20260728T100000
DTEND;TZID=Europe/London:20260728T163000
DTSTAMP:20260424T135225
CREATED:20251109T145354Z
LAST-MODIFIED:20251109T145354Z
UID:22891-1785232800-1785256200@www.cotswoldelectricbiketours.co.uk
SUMMARY:Kingham
DESCRIPTION:
URL:https://www.cotswoldelectricbiketours.co.uk/date/kingham-762/
CATEGORIES:Kingham
END:VEVENT
BEGIN:VEVENT
DTSTART;TZID=Europe/London:20260730T100000
DTEND;TZID=Europe/London:20260730T160000
DTSTAMP:20260424T135225
CREATED:20251109T145621Z
LAST-MODIFIED:20251109T145621Z
UID:22894-1785405600-1785427200@www.cotswoldelectricbiketours.co.uk
SUMMARY:Moreton-in-Marsh
DESCRIPTION:
URL:https://www.cotswoldelectricbiketours.co.uk/date/moreton-in-marsh-201/
CATEGORIES:Moreton-in-Marsh
END:VEVENT
BEGIN:VEVENT
DTSTART;TZID=Europe/London:20260731T100000
DTEND;TZID=Europe/London:20260731T163000
DTSTAMP:20260424T135225
CREATED:20251109T145845Z
LAST-MODIFIED:20251109T145845Z
UID:22897-1785492000-1785515400@www.cotswoldelectricbiketours.co.uk
SUMMARY:Kingham
DESCRIPTION:
URL:https://www.cotswoldelectricbiketours.co.uk/date/kingham-763/
CATEGORIES:Kingham
END:VEVENT
BEGIN:VEVENT
DTSTART;TZID=Europe/London:20260801T100000
DTEND;TZID=Europe/London:20260801T163000
DTSTAMP:20260424T135225
CREATED:20251109T150049Z
LAST-MODIFIED:20251109T150049Z
UID:22900-1785578400-1785601800@www.cotswoldelectricbiketours.co.uk
SUMMARY:Burford
DESCRIPTION:
URL:https://www.cotswoldelectricbiketours.co.uk/date/burford-391/
CATEGORIES:Burford
END:VEVENT
BEGIN:VEVENT
DTSTART;TZID=Europe/London:20260802T100000
DTEND;TZID=Europe/London:20260802T163000
DTSTAMP:20260424T135225
CREATED:20251109T150256Z
LAST-MODIFIED:20251109T150256Z
UID:22903-1785664800-1785688200@www.cotswoldelectricbiketours.co.uk
SUMMARY:Kingham
DESCRIPTION:
URL:https://www.cotswoldelectricbiketours.co.uk/date/kingham-764/
CATEGORIES:Kingham
END:VEVENT
BEGIN:VEVENT
DTSTART;TZID=Europe/London:20260803T100000
DTEND;TZID=Europe/London:20260803T163000
DTSTAMP:20260424T135225
CREATED:20251109T150544Z
LAST-MODIFIED:20251109T150544Z
UID:22906-1785751200-1785774600@www.cotswoldelectricbiketours.co.uk
SUMMARY:Burford
DESCRIPTION:
URL:https://www.cotswoldelectricbiketours.co.uk/date/burford-392/
CATEGORIES:Burford
END:VEVENT
BEGIN:VEVENT
DTSTART;TZID=Europe/London:20260804T100000
DTEND;TZID=Europe/London:20260804T163000
DTSTAMP:20260424T135225
CREATED:20251109T150743Z
LAST-MODIFIED:20251109T150743Z
UID:22909-1785837600-1785861000@www.cotswoldelectricbiketours.co.uk
SUMMARY:Kingham
DESCRIPTION:
URL:https://www.cotswoldelectricbiketours.co.uk/date/kingham-765/
CATEGORIES:Kingham
END:VEVENT
BEGIN:VEVENT
DTSTART;TZID=Europe/London:20260816T100000
DTEND;TZID=Europe/London:20260816T163000
DTSTAMP:20260424T135225
CREATED:20251109T151013Z
LAST-MODIFIED:20251109T151013Z
UID:22912-1786874400-1786897800@www.cotswoldelectricbiketours.co.uk
SUMMARY:Kingham
DESCRIPTION:
URL:https://www.cotswoldelectricbiketours.co.uk/date/kingham-766/
CATEGORIES:Kingham
END:VEVENT
BEGIN:VEVENT
DTSTART;TZID=Europe/London:20260817T100000
DTEND;TZID=Europe/London:20260817T160000
DTSTAMP:20260424T135225
CREATED:20251108T180600Z
LAST-MODIFIED:20251108T180600Z
UID:22791-1786960800-1786982400@www.cotswoldelectricbiketours.co.uk
SUMMARY:Moreton-in-Marsh
DESCRIPTION:
URL:https://www.cotswoldelectricbiketours.co.uk/date/moreton-in-marsh-194/
CATEGORIES:Moreton-in-Marsh
END:VEVENT
END:VCALENDAR